BEGIN:VCALENDAR
VERSION:2.0
PRODID:-//ChamberMaster//Event Calendar 2.0//EN
METHOD:PUBLISH
X-PUBLISHED-TTL:P3D
REFRESH-INTERVAL:P3D
CALSCALE:GREGORIAN
BEGIN:VEVENT
DTSTART:20251115T160000Z
DTEND:20251115T200000Z
X-MICROSOFT-CDO-ALLDAYEVENT:FALSE
SUMMARY:EmpowHER | Mental Health Workshop for Teen Girls
DESCRIPTION:EmpowHER | Mental Health Workshop for Teen Girls \n\naturday\, November 15\n\nDoors open at 9:45 AM | Event from 10:00 AM   2:00 PM \n\nFreeport High School - 12615 US-331 BUS\, Freeport\, FL 32439\n\n\n\nJoin us for EmpowHER\, presented by Eglin Federal Credit Union   a day dedicated to uplifting the mental health and well-being of teen girls through meaningful conversations\, creative expression\, and joyful connection. This empowering workshop will feature engaging sessions and activities designed to inspire confidence\, encourage self-care\, and build community among local teen girls. Lunch will be provided for all attendees. Best of all\, it's completely free to attend. Register at www.united-way.org/empowHER
X-ALT-DESC;FMTTYPE=text/html:EmpowHER | Mental Health Workshop for Teen Girls&nbsp\;<br />\naturday\, November 15<br />\nDoors open at 9:45 AM | Event from 10:00 AM &ndash\; 2:00 PM&nbsp\;<br />\nFreeport High School - 12615 US-331 BUS\, Freeport\, FL 32439<br />\n<br />\nJoin us for EmpowHER\, presented by Eglin Federal Credit Union &mdash\; a day dedicated to uplifting the mental health and well-being of teen girls through meaningful conversations\, creative expression\, and joyful connection. This empowering workshop will feature engaging sessions and activities designed to inspire confidence\, encourage self-care\, and build community among local teen girls. Lunch will be provided for all attendees. Best of all\, it&rsquo\;s completely free to attend. Register at www.united-way.org/empowHER
LOCATION:Freeport High School - 12615 US-331 BUS\, Freeport\, FL 32439
UID:e.885.56117
SEQUENCE:3
DTSTAMP:20260422T160220Z
URL:https://business.waltonareachamber.com/events/details/empowher-mental-health-workshop-for-teen-girls-56117
END:VEVENT

END:VCALENDAR
