BEGIN:VCALENDAR
VERSION:2.0
PRODID:-//ChamberMaster//Event Calendar 2.0//EN
METHOD:PUBLISH
X-PUBLISHED-TTL:P3D
REFRESH-INTERVAL:P3D
CALSCALE:GREGORIAN
BEGIN:VEVENT
DTSTART:20211010T180000Z
DTEND:20211010T200000Z
X-MICROSOFT-CDO-ALLDAYEVENT:FALSE
SUMMARY:Epic Bakery Competition
DESCRIPTION:Join us for our first-ever Epic Bakery Competition benefiting the Boys & Girls Clubs of the Emerald Coast (BGCEC) on Sunday\, October 10th\, in DeFuniak Springs! Competing teams provide samples to attendees and compete for the Best Baked Goods in Town! All proceeds from this event go to the Boys & Girls Clubs of the Emerald Coast\, which works in our community to promote and enhance the development of boys and girls by instilling a sense of competence\, usefulness\, belonging\, and influence through its programs focused on academic success\, good character\, citizenship\, and a healthy lifestyle.
X-ALT-DESC;FMTTYPE=text/html:Join us for our first-ever Epic Bakery Competition benefiting the Boys &amp\; Girls Clubs of the Emerald Coast (BGCEC) on Sunday\, October 10th\, in DeFuniak Springs! Competing teams provide samples to attendees and compete for the Best Baked Goods in Town! All proceeds from this event go to the Boys &amp\; Girls Clubs of the Emerald Coast\, which works in our community to promote and enhance the development of boys and girls by instilling a sense of competence\, usefulness\, belonging\, and influence through its programs focused on academic success\, good character\, citizenship\, and a healthy lifestyle.
LOCATION:Main Street DeFuniak Springs
UID:e.885.32417
SEQUENCE:3
DTSTAMP:20260423T025103Z
URL:https://business.waltonareachamber.com/events/details/epic-bakery-competition-32417
END:VEVENT

END:VCALENDAR
