BEGIN:VCALENDAR
VERSION:2.0
PRODID:-//ChamberMaster//Event Calendar 2.0//EN
METHOD:PUBLISH
X-PUBLISHED-TTL:P3D
REFRESH-INTERVAL:P3D
CALSCALE:GREGORIAN
BEGIN:VEVENT
DTSTART:20250508T150000Z
DTEND:20250510T223000Z
X-MICROSOFT-CDO-ALLDAYEVENT:FALSE
SUMMARY:Erica Courtney Personal Appearance & Trunk Show
DESCRIPTION:Join McCaskill & Company for our Erica Courtney Personal Appearance & Trunk Show Recognized for her passion for colored gemstones\, Erica Courtney continues to travel to thrilling and exotic destinations in search for the rarest and most extraordinary gemstones to enrich her award-winning collections. For three decades\, Erica Courtney Jewelry has defined style and luxury with an iconic "Drop Dead Gorgeous" collection of chic statement pieces that pushes the boundaries of artisan jewelry.
X-ALT-DESC;FMTTYPE=text/html:Join McCaskill &amp\; Company for our Erica Courtney Personal Appearance &amp\; Trunk Show Recognized for her passion for colored gemstones\, Erica Courtney continues to travel to thrilling and exotic destinations in search for the rarest and most extraordinary gemstones to enrich her award-winning collections. For three decades\, Erica Courtney Jewelry has defined style and luxury with an iconic &ldquo\;Drop Dead Gorgeous&rdquo\; collection of chic statement pieces that pushes the boundaries of artisan jewelry.
LOCATION:McCaskill & Company 13390 Highway 98 West Destin\, FL 32550
UID:e.885.55012
SEQUENCE:3
DTSTAMP:20260423T013751Z
URL:https://business.waltonareachamber.com/events/details/erica-courtney-personal-appearance-trunk-show-05-08-2025-55012
END:VEVENT

END:VCALENDAR
