BEGIN:VCALENDAR
VERSION:2.0
PRODID:-//ChamberMaster//Event Calendar 2.0//EN
METHOD:PUBLISH
X-PUBLISHED-TTL:P3D
REFRESH-INTERVAL:P3D
CALSCALE:GREGORIAN
BEGIN:VEVENT
DTSTART:20240711T150000Z
DTEND:20240712T223000Z
X-MICROSOFT-CDO-ALLDAYEVENT:FALSE
SUMMARY:Erica Courtney Re-Design Event
DESCRIPTION:Do you have some jewelry that you are not wearing\, because you feel that it is not in style or you simply do not love it anymore? Then Erica Courtney's Re-design is just for you! Schedule an appointment during this 2-day event to work one-on-one with the iconic designer to create a fabulous re-design.
X-ALT-DESC;FMTTYPE=text/html:Do you have some jewelry that you are not wearing\, because you feel that it is not in style&hellip\;or you simply do not love it anymore? Then Erica Courtney&rsquo\;s Re-design is just for you! Schedule an appointment during this 2-day event to work one-on-one with the iconic designer to create a fabulous re-design.
LOCATION:McCaskill & Company 13390 Highway 98 W Destin\, FL 32550
UID:e.885.36363
SEQUENCE:3
DTSTAMP:20260425T170559Z
URL:https://business.waltonareachamber.com/events/details/erica-courtney-re-design-event-36363
END:VEVENT

END:VCALENDAR
