BEGIN:VCALENDAR
VERSION:2.0
PRODID:-//ChamberMaster//Event Calendar 2.0//EN
METHOD:PUBLISH
X-PUBLISHED-TTL:P3D
REFRESH-INTERVAL:P3D
CALSCALE:GREGORIAN
BEGIN:VEVENT
DTSTART:20251113T160000Z
DTEND:20251115T233000Z
X-MICROSOFT-CDO-ALLDAYEVENT:FALSE
SUMMARY:Erica Courtney 'Your Time to Sparkle' Personal Appearance & Trunk Show
DESCRIPTION:You're Invited! Erica Courtney "Your Time to Sparkle" Personal Appearance & Trunk Show Thursday Saturday\, November 13th 15th | 10:00am 5:30pm McCaskill & Company Fine Jewelry Join us for a sparkling three-day event featuring world-renowned jewelry designer Erica Courtney   often described as a modern-day Indiana Jones in stiletto heels! Erica travels the globe in search of the rarest and most beautiful gemstones\, transforming them into her signature Drop Dead Gorgeous  creations. Meet Erica in person and experience her extraordinary collection\, celebrated for its stunning gemstones\, meticulous craftsmanship\, and undeniable glamour. It's no wonder she was named one of the Top 3 Jewelry Designers in the World by United Brands. Don't miss this opportunity to discover jewelry that Erica describes as "pretty\, girly\, beautiful\, wearable\, and a little bit edgy." Your Time to Sparkle awaits!
X-ALT-DESC;FMTTYPE=text/html:You&rsquo\;re Invited! Erica Courtney &ldquo\;Your Time to Sparkle&rdquo\; Personal Appearance &amp\; Trunk Show Thursday&ndash\;Saturday\, November 13th&ndash\;15th | 10:00am&ndash\;5:30pm McCaskill &amp\; Company Fine Jewelry Join us for a sparkling three-day event featuring world-renowned jewelry designer Erica Courtney &mdash\; often described as a modern-day Indiana Jones in stiletto heels! Erica travels the globe in search of the rarest and most beautiful gemstones\, transforming them into her signature Drop Dead Gorgeous&reg\; creations. Meet Erica in person and experience her extraordinary collection\, celebrated for its stunning gemstones\, meticulous craftsmanship\, and undeniable glamour. It&rsquo\;s no wonder she was named one of the Top 3 Jewelry Designers in the World by United Brands. Don&rsquo\;t miss this opportunity to discover jewelry that Erica describes as &ldquo\;pretty\, girly\, beautiful\, wearable\, and a little bit edgy.&rdquo\; Your Time to Sparkle awaits!
LOCATION:McCaskill & Company 13390 Highway 98 W Destin\, FL 32550
UID:e.885.56113
SEQUENCE:3
DTSTAMP:20260422T160037Z
URL:https://business.waltonareachamber.com/events/details/erica-courtney-your-time-to-sparkle-personal-appearance-trunk-show-56113
END:VEVENT

END:VCALENDAR
