BEGIN:VCALENDAR
VERSION:2.0
PRODID:-//ChamberMaster//Event Calendar 2.0//EN
METHOD:PUBLISH
X-PUBLISHED-TTL:P3D
REFRESH-INTERVAL:P3D
CALSCALE:GREGORIAN
BEGIN:VEVENT
DTSTART:20211127T220000Z
DTEND:20211127T223000Z
X-MICROSOFT-CDO-ALLDAYEVENT:FALSE
SUMMARY:Every Christmas Story Ever Told
DESCRIPTION:Grab your chairs and pick your perfect spot in front of the Seaside Post Office for the magical holiday tradition of Every Christmas Story Ever Told presented in Downtown Seaside. Back for its 11th year\, The REP Theatre's holiday smash hit\, Every Christmas Story Ever Told\, returns with all of your favorite Beloved Holiday Classics packed into a show full of high-energy jolly and hilarity! Four REP actors\, armed with a bazillion props and costumes\, send up everything from Charles Dickens and Dr. Seuss to Jimmy Stewart and Chewbacca in this ever-evolving REP favorite. It's the perfect way to get ready for the season\, beat the festive fatigue\, and share some holiday cheer.
X-ALT-DESC;FMTTYPE=text/html:Grab your chairs and pick your perfect spot in front of the Seaside Post Office for the magical holiday tradition of Every Christmas Story Ever Told presented in Downtown Seaside. Back for its 11th year\, The REP Theatre&rsquo\;s holiday smash hit\, Every Christmas Story Ever Told\, returns with all of your favorite Beloved Holiday Classics packed into a show full of high-energy jolly and hilarity! Four REP actors\, armed with a bazillion props and costumes\, send up everything from Charles Dickens and Dr. Seuss to Jimmy Stewart and Chewbacca in this ever-evolving REP favorite. It&rsquo\;s the perfect way to get ready for the season\, beat the festive fatigue\, and share some holiday cheer.
LOCATION:Seaside Post Office
UID:e.885.32653
SEQUENCE:3
DTSTAMP:20260423T044017Z
URL:https://business.waltonareachamber.com/events/details/every-christmas-story-ever-told-11-27-2021-32653
END:VEVENT

END:VCALENDAR
