BEGIN:VCALENDAR
VERSION:2.0
PRODID:-//ChamberMaster//Event Calendar 2.0//EN
METHOD:PUBLISH
X-PUBLISHED-TTL:P3D
REFRESH-INTERVAL:P3D
CALSCALE:GREGORIAN
BEGIN:VEVENT
DTSTART:20211210T170000Z
DTEND:20211223T174500Z
X-MICROSOFT-CDO-ALLDAYEVENT:FALSE
SUMMARY:Every Christmas Story Ever Told
DESCRIPTION:December 10th   12th & December 17th   23rd Show Time: 11 am | Location: Seaside Post Office Grab your chairs and pick your perfect spot in front of the Seaside Post Office for the magical holiday tradition of Every Christmas Story Ever Told performing in Downtown Seaside. Back for its 11th year\, The REP Theatre's holiday smash hit\, Every Christmas Story Ever Told\, returns with all of your favorite Beloved Holiday Classics packed into a show full of high-energy jolly and hilarity! Four REP actors\, armed with a bazillion props and costumes\, send up everything from Charles Dickens and Dr. Seuss to Jimmy Stewart and Chewbacca in this ever-evolving REP favorite. It's the perfect way to get ready for the season\, beat the festive fatigue\, and share some holiday cheer. This is a complimentary\, non-ticketed event thanks to The Seaside Merchants!
X-ALT-DESC;FMTTYPE=text/html:December 10th &ndash\; 12th &amp\; December 17th &ndash\; 23rd Show Time: 11 am | Location: Seaside Post Office Grab your chairs and pick your perfect spot in front of the Seaside Post Office for the magical holiday tradition of Every Christmas Story Ever Told performing in Downtown Seaside. Back for its 11th year\, The REP Theatre&rsquo\;s holiday smash hit\, Every Christmas Story Ever Told\, returns with all of your favorite Beloved Holiday Classics packed into a show full of high-energy jolly and hilarity! Four REP actors\, armed with a bazillion props and costumes\, send up everything from Charles Dickens and Dr. Seuss to Jimmy Stewart and Chewbacca in this ever-evolving REP favorite. It&rsquo\;s the perfect way to get ready for the season\, beat the festive fatigue\, and share some holiday cheer. This is a complimentary\, non-ticketed event thanks to The Seaside Merchants!
LOCATION:Seaside Post Office
UID:e.885.32654
SEQUENCE:3
DTSTAMP:20260423T063326Z
URL:https://business.waltonareachamber.com/events/details/every-christmas-story-ever-told-12-10-2021-32654
END:VEVENT

END:VCALENDAR
