BEGIN:VCALENDAR
VERSION:2.0
PRODID:-//ChamberMaster//Event Calendar 2.0//EN
METHOD:PUBLISH
X-PUBLISHED-TTL:P3D
REFRESH-INTERVAL:P3D
CALSCALE:GREGORIAN
BEGIN:VEVENT
DTSTART:20211123T200000Z
DTEND:20211123T204500Z
X-MICROSOFT-CDO-ALLDAYEVENT:FALSE
SUMMARY:Every Christmas Story Ever Told
DESCRIPTION:Back for its 11th year\, The REP Theatre's holiday smash hit\, Every Christmas Story Ever Told\, returns with all of your favorite Beloved Holiday Classics packed into a show full of high-energy jolly and hilarity! Four REP actors\, armed with a bazillion props and costumes\, send up everything from Charles Dickens and Dr. Seuss to Jimmy Stewart and Chewbacca in this ever-evolving REP favorite. It's the perfect way to get ready for the season\, beat the festive fatigue\, and share some holiday cheer.
X-ALT-DESC;FMTTYPE=text/html:Back for its 11th year\, The REP Theatre&rsquo\;s holiday smash hit\, Every Christmas Story Ever Told\, returns with all of your favorite Beloved Holiday Classics packed into a show full of high-energy jolly and hilarity! Four REP actors\, armed with a bazillion props and costumes\, send up everything from Charles Dickens and Dr. Seuss to Jimmy Stewart and Chewbacca in this ever-evolving REP favorite. It&rsquo\;s the perfect way to get ready for the season\, beat the festive fatigue\, and share some holiday cheer.
LOCATION:North Barrett Square at Rosemary Beach
UID:e.885.32651
SEQUENCE:3
DTSTAMP:20260423T043809Z
URL:https://business.waltonareachamber.com/events/details/every-christmas-story-ever-told-32651
END:VEVENT

END:VCALENDAR
