BEGIN:VCALENDAR
VERSION:2.0
PRODID:-//ChamberMaster//Event Calendar 2.0//EN
METHOD:PUBLISH
X-PUBLISHED-TTL:P3D
REFRESH-INTERVAL:P3D
CALSCALE:GREGORIAN
BEGIN:VEVENT
DTSTART:20211208T220000Z
DTEND:20211209T033000Z
X-MICROSOFT-CDO-ALLDAYEVENT:FALSE
SUMMARY:Farm & Fire Southern Pizzeria
DESCRIPTION:Farm & Fire Southern Pizzeria:\n\nWed - Sun - 4:00 - 9:30 PM\n\nNo music at Farm & Fire currently\n\n \n\nHappy Hour - 4-6PM ONLY\n\n$7 select spirits\n\n$6 glass house wine\n\n$1 off draft beer\n\n\n\n \n\nOld Fashioned Thursdays\n\nChoose form a curated menu of Old Fashioneds for just $10\n\n \n\nMore info and now offering reservations: farmandfirepizza.com
X-ALT-DESC;FMTTYPE=text/html:<div style="color:rgb(0\, 0\, 0)\;font-family:Calibri\;font-size:14px\;">\n<div><span style="font-size:14px\;"><span style="font-family:arial\;">&nbsp\;</span></span></div>\n\n<div><span style="font-size:14px\;"><span style="font-family:arial\;"><strong><em>Farm &amp\; Fire Southern Pizzeria:</em></strong></span></span></div>\n\n<div><span style="font-size:14px\;"><span style="font-family:arial\;"><strong>Wed - Sun - 4:00 - 9:30 PM</strong></span></span></div>\n\n<div><span style="font-size:14px\;"><span style="font-family:arial\;"><strong>No music at Farm &amp\; Fire currently</strong></span></span></div>\n\n<div><span style="font-size:14px\;"><span style="font-family:arial\;">&nbsp\;</span></span></div>\n\n<div><span style="font-size:14px\;"><span style="font-family:arial\;">Happy Hour - 4-6PM ONLY</span></span></div>\n\n<div><span style="font-size:14px\;"><span style="font-family:arial\;">$7 select spirits</span></span></div>\n\n<div><span style="font-size:14px\;"><span style="font-family:arial\;">$6 glass house wine</span></span></div>\n\n<div><span style="font-size:14px\;"><span style="font-family:arial\;">$1 off draft beer</span></span></div>\n</div>\n\n<div style="color:rgb(0\, 0\, 0)\;font-family:Calibri\;font-size:14px\;">\n<div><span style="font-size:14px\;"><span style="font-family:arial\;">&nbsp\;</span></span></div>\n\n<div><span style="font-size:14px\;"><span style="font-family:arial\;"><em>Old Fashioned Thursdays</em><br />\nChoose form a curated menu of Old Fashioneds for just $10</span></span></div>\n\n<div><span style="font-size:14px\;"><span style="font-family:arial\;">&nbsp\;</span></span></div>\n\n<div><span style="font-size:14px\;"><span style="font-family:arial\;">More info and now offering reservations:&nbsp\;<a href="http://farmandfirepizza.com/" style="color:blue\;" target="_blank" title="http://farmandfirepizza.com/">farmandfirepizza.com</a></span></span></div>\n</div>\n
LOCATION:
UID:e.885.33129
SEQUENCE:3
DTSTAMP:20260423T080642Z
URL:https://business.waltonareachamber.com/events/details/farm-fire-southern-pizzeria-12-08-2021-33129
END:VEVENT

END:VCALENDAR
