BEGIN:VCALENDAR
VERSION:2.0
PRODID:-//ChamberMaster//Event Calendar 2.0//EN
METHOD:PUBLISH
X-PUBLISHED-TTL:P3D
REFRESH-INTERVAL:P3D
CALSCALE:GREGORIAN
BEGIN:VEVENT
DTSTART:20240706T150000Z
DTEND:20240706T200000Z
X-MICROSOFT-CDO-ALLDAYEVENT:FALSE
SUMMARY:Farmer's Market
DESCRIPTION:Join us every 1st weekend\, for Destin's only Farmers Market. Enjoy brunch with an unbeatable view at one of our fabulous restaurants before taking a stroll through the harbor\, while enjoying the fresh springtime air\, browse upon our variety of fresh produce\, local & handcrafted art pieces\, and more! \n\n\n\nWanna join us and become a VENDOR? Sign up HERE!\n\n\n\nBand Line up:\n\nMarch 2nd - FlashFlood Duo : 12PM - 3PM\n\nApril 6th - The Two HooDoos : 12PM - 3PM\n\nMay 4th - Slingo : 12PM - 3PM\n\nJune 1st | Band Line up will be release soon!\n\nJuly 6th | Band Line up will be release soon!\n\nAugust 3rd | Band Line up will be release soon!
X-ALT-DESC;FMTTYPE=text/html:Join us every 1st weekend\, for Destin&rsquo\;s only Farmers Market. Enjoy brunch with an unbeatable view at one of our fabulous restaurants before taking a stroll through the harbor\, while enjoying the fresh springtime air\, browse upon our variety of fresh produce\, local &amp\; handcrafted art pieces\, and more!&nbsp\;<br />\n<br />\nWanna join us and become a VENDOR? <strong><a href="http://https://form.jotform.com/HarborWalk/2024-harborwalk-farmers-market-vend?fbclid=IwAR0oe7ck02ycVh5zIunQwTH08FK8NHKw1mOPjvG_9W1v7SY_Nhh290KgxoM_aem_Ae0q4UUrWfcAShGjf4OQ-1JEB689fBrb-LNV_gtnJiqCO-9d7E46CNOMFW9gcCNGZPm1TSK6duqYF_BMoL8ieqei">Sign up HERE!</a><br />\n<br />\nBand Line up:<br />\nMarch 2nd - FlashFlood Duo </strong>: 12PM - 3PM<br />\n<strong>April 6th - The Two HooDoos</strong> : 12PM - 3PM<br />\n<strong>May 4th - Slingo </strong>: 12PM - 3PM<br />\n<strong>June 1st </strong>| Band Line up will be release soon!<br />\n<strong>July 6th</strong> | Band Line up will be release soon!<br />\n<strong>August 3rd</strong> | Band Line up will be release soon!<br />\n<br />\n&nbsp\;
LOCATION:10 Harbor Blvd\, Destin\, Florida 32541
UID:e.885.37189
SEQUENCE:3
DTSTAMP:20260425T170507Z
URL:https://business.waltonareachamber.com/events/details/farmer-s-market-07-06-2024-37189
END:VEVENT

END:VCALENDAR
