BEGIN:VCALENDAR
VERSION:2.0
PRODID:-//ChamberMaster//Event Calendar 2.0//EN
METHOD:PUBLISH
X-PUBLISHED-TTL:P3D
REFRESH-INTERVAL:P3D
CALSCALE:GREGORIAN
BEGIN:VEVENT
DTSTART:20240702T233000Z
DTEND:20240703T020000Z
X-MICROSOFT-CDO-ALLDAYEVENT:FALSE
SUMMARY:Fat Tuesday
DESCRIPTION:Carnival comes to HarborWalk Village with live music on the Main Stage by Fais Do Do and our Fat Tuesday Parade. Catch beads as the floats roll through the Village! End the night with a Fire Spinning Show on the Main Stage by Autumn Lyfe.\n\n\n\nLive Concert: 6:30PM\n\nParade: 8:30PM \n\nFire Spinning Show: 9:00PM by Autumn Lyfe\n\n\n\nWant to ride on one of our floats during the parade or promote your business?\n\n-- Want to purchase Float packages? SIGN UP HERE!!\n\n\n\n-- If you're interested in showcasing your business\, contact HarborWalk Village Events at events@harborwalkvillage.com or call 850-424-0600
X-ALT-DESC;FMTTYPE=text/html:Carnival comes to HarborWalk Village with live music on the Main Stage by Fais Do Do and our Fat Tuesday Parade. Catch beads as the floats roll through the Village! End the night with a Fire Spinning Show on the Main Stage by Autumn Lyfe.<br />\n<br />\n<strong>Live Concert:</strong> 6:30PM<br />\n<strong>Parade:</strong> 8:30PM&nbsp\;<br />\n<strong>Fire Spinning Show: </strong>9:00PM by Autumn Lyfe<br />\n<br />\nWant to ride on one of our floats during the parade or promote your business?<br />\n--&gt\;Want to purchase Float packages? <strong><a href="https://www.eventbrite.com/e/fat-tuesday-celebrations-summer-2024-float-packages-tickets-872043624957">SIGN UP HERE!!</a></strong><br />\n<br />\n--&gt\;If you&#39\;re interested in showcasing your business\, contact HarborWalk Village Events at events@harborwalkvillage.com or call 850-424-0600<br />\n&nbsp\;
LOCATION:10 Harbor Blvd\, Destin\, Florida 32541
UID:e.885.37221
SEQUENCE:3
DTSTAMP:20260425T170344Z
URL:https://business.waltonareachamber.com/events/details/fat-tuesday-07-02-2024-37221
END:VEVENT

END:VCALENDAR
