BEGIN:VCALENDAR
VERSION:2.0
PRODID:-//ChamberMaster//Event Calendar 2.0//EN
METHOD:PUBLISH
X-PUBLISHED-TTL:P3D
REFRESH-INTERVAL:P3D
CALSCALE:GREGORIAN
BEGIN:VEVENT
DTSTART:20210713T233000Z
DTEND:20210714T023000Z
X-MICROSOFT-CDO-ALLDAYEVENT:FALSE
SUMMARY:Fat Tuesday Celebration
DESCRIPTION:Fat Tuesday Celebration | 6:30   9:00pm @ Concert Begins: 6:30pm and Parade Begins: 8:30pm\n	Carnival comes to HarborWalk Village with live music on the main stage and our "Parade in Place." Join the second line at Rhumcay Island Grille and follow the Brass Band through the Village. Catch beads as you pass our authentic Mardi Gras floats!\n	**Want to celebrate on a float with you and your krewe or promote your business during our Fat Tuesday Celebration? Float packages are available for purchase: https://www.eventbrite.com/e/fat-tuesday-celebrations-float-packages-tickets-154602944569?fbclid=IwAR2mY9p13gqjmEAXxnTiyx0r7atI92Bw0pBoI3lFaS4sGVY9uffUAhyktKc\n	If you're interested in showcasing your business\, contact HarborWalk Village events at events@harborwalkvillage.com or call 850-424-0600
X-ALT-DESC;FMTTYPE=text/html:<ul style="margin-bottom: 0in\; color: rgb(32\, 31\, 30)\; font-family: &quot\;Segoe UI&quot\;\, &quot\;Segoe UI Web (West European)&quot\;\, &quot\;Segoe UI&quot\;\, -apple-system\, BlinkMacSystemFont\, Roboto\, &quot\;Helvetica Neue&quot\;\, sans-serif\; font-size: 15px\; margin-top: 0in\;" type="disc">\n	<li class="x_MsoListParagraph" style="margin: 0in\; font-size: 11pt\; font-family: Calibri\, sans-serif\; color: black\; background-image: initial\; background-position: initial\; background-size: initial\; background-repeat: initial\; background-attachment: initial\; background-origin: initial\; background-clip: initial\;"><span style="font-size:14px\;"><span style="font-family:arial\;">Fat Tuesday Celebration | 6:30 &ndash\; 9:00pm @ Concert Begins: 6:30pm and Parade Begins: 8:30pm</span></span></li>\n	<li class="x_MsoListParagraph" style="margin: 0in\; font-size: 11pt\; font-family: Calibri\, sans-serif\; color: black\; background-image: initial\; background-position: initial\; background-size: initial\; background-repeat: initial\; background-attachment: initial\; background-origin: initial\; background-clip: initial\;"><span style="font-size:14px\;"><span style="font-family:arial\;">Carnival comes to HarborWalk Village with live music on the main stage and our &quot\;Parade in Place.&quot\; Join the second line at Rhumcay Island Grille and follow the Brass Band through the Village. Catch beads as you pass our authentic Mardi Gras floats!</span></span></li>\n	<li class="x_MsoListParagraph" style="margin: 6pt 0in 0in\; font-size: 11pt\; font-family: Calibri\, sans-serif\; color: black\; background-image: initial\; background-position: initial\; background-size: initial\; background-repeat: initial\; background-attachment: initial\; background-origin: initial\; background-clip: initial\;"><span style="font-size:14px\;"><span style="font-family:arial\;">**Want to celebrate on a float with you and your krewe or promote your business during our Fat Tuesday Celebration? Float packages are available for purchase:&nbsp\;<a data-auth="NotApplicable" data-linkindex="1" href="https://www.eventbrite.com/e/fat-tuesday-celebrations-float-packages-tickets-154602944569?fbclid=IwAR2mY9p13gqjmEAXxnTiyx0r7atI92Bw0pBoI3lFaS4sGVY9uffUAhyktKc" rel="noopener noreferrer" style="margin: 0px\; padding: 0px\; border: 0px\; font: inherit\; vertical-align: baseline\; color: rgb(5\, 99\, 193)\;" target="_blank"><span style="margin: 0px\; padding: 0px\; border: 0px\; font-style: inherit\; font-variant: inherit\; font-weight: inherit\; font-stretch: inherit\; line-height: inherit\; vertical-align: baseline\; color: black\; text-decoration-line: none\;">https://www.eventbrite.com/e/fat-tuesday-celebrations-float-packages-tickets-154602944569?fbclid=IwAR2mY9p13gqjmEAXxnTiyx0r7atI92Bw0pBoI3lFaS4sGVY9uffUAhyktKc</span></a></span></span></li>\n	<li class="x_MsoListParagraph" style="margin: 0in\; font-size: 11pt\; font-family: Calibri\, sans-serif\; color: black\; background-image: initial\; background-position: initial\; background-size: initial\; background-repeat: initial\; background-attachment: initial\; background-origin: initial\; background-clip: initial\;"><span style="font-size:14px\;"><span style="font-family:arial\;">If you&#39\;re interested in showcasing your business\, contact HarborWalk Village events at&nbsp\;<a data-auth="NotApplicable" data-linkindex="2" href="mailto:events@harborwalkvillage.com" rel="noopener noreferrer" style="margin: 0px\; padding: 0px\; border: 0px\; font: inherit\; vertical-align: baseline\; color: rgb(5\, 99\, 193)\;" target="_blank"><span style="margin: 0px\; padding: 0px\; border: 0px\; font-style: inherit\; font-variant: inherit\; font-weight: inherit\; font-stretch: inherit\; line-height: inherit\; vertical-align: baseline\; color: black\; text-decoration-line: none\;">events@harborwalkvillage.com</span></a>&nbsp\;or call 850-424-0600</span></span></li>\n</ul>\n
LOCATION:HarborWalk Village Destin\, FL
UID:e.885.32134
SEQUENCE:3
DTSTAMP:20260422T214730Z
URL:https://business.waltonareachamber.com/events/details/fat-tuesday-celebration-07-13-2021-32134
END:VEVENT

END:VCALENDAR
