BEGIN:VCALENDAR
VERSION:2.0
PRODID:-//ChamberMaster//Event Calendar 2.0//EN
METHOD:PUBLISH
X-PUBLISHED-TTL:P3D
REFRESH-INTERVAL:P3D
CALSCALE:GREGORIAN
BEGIN:VEVENT
DTSTART:20210620T140000Z
DTEND:20210620T220000Z
X-MICROSOFT-CDO-ALLDAYEVENT:FALSE
SUMMARY:Father’s Day Special at WaterColor InnSpa
DESCRIPTION:Father's Day Special at WaterColor InnSpa\n\nTreat Dad to a relaxing and rejuvenating experience at WaterColor InnSpa. They'll receive a complimentary add-on enhancement\, their choice of a therapeutic muscle balm or warm stones\, with the purchase of a 50 or 80-minute massage. They'll also receive a complimentary branded koozie with a complimentary beer voucher to be enjoyed at FOOW. Reservations required.\n\n\n	Website: watercolorresort.com/amenities/innspa\n	Address: 34 Goldenrod Cir\, Santa Rosa Beach\, FL 32459\n	Phone: (850) 534-5010
X-ALT-DESC;FMTTYPE=text/html:<p style="font-size: 11pt\; color: rgb(0\, 0\, 0)\; font-family: Arial\, Helvetica\, sans-serif\; line-height: 22px\;"><span style="font-size:14px\;"><span style="font-family:arial\;"><span style="margin: 0px\; padding: 0px\; border: 0px\; font-style: inherit\; font-variant: inherit\; font-weight: inherit\; font-stretch: inherit\; line-height: 22px\; vertical-align: baseline\;"><strong>Father&rsquo\;s Day Special at WaterColor&nbsp\;InnSpa</strong><br />\nTreat Dad to a relaxing&nbsp\;and rejuvenating experience at WaterColor InnSpa. They&rsquo\;ll receive a&nbsp\;complimentary add-on enhancement\, their choice of a therapeutic muscle&nbsp\;balm or&nbsp\;warm stones\, with the purchase of a 50 or 80-minute massage. They&rsquo\;ll also&nbsp\;receive a complimentary branded koozie with a complimentary beer voucher to be&nbsp\;enjoyed at FOOW. Reservations required.</span></span></span></p>\n\n<ul style="font-size: 11pt\; color: rgb(0\, 0\, 0)\; font-family: Arial\, Helvetica\, sans-serif\; line-height: 22px\;">\n	<li><span style="font-size:14px\;"><span style="font-family:arial\;"><span style="margin: 0px\; padding: 0px\; border: 0px\; font-style: inherit\; font-variant: inherit\; font-weight: inherit\; font-stretch: inherit\; line-height: 22px\; vertical-align: baseline\; color: inherit\;">Website:&nbsp\;<a data-auth="NotApplicable" data-linkindex="7" href="https://marketing.visitsouthwalton.com/acton/ct/42551/s-008f-2106/Bct/q-0014/l-0012:5fb/ct6_0/1/lu?sid=TV2%3AsSviszqWo" id="x_ct6_0" rel="noopener noreferrer" style="margin: 0px\; padding: 0px\; border: 0px\; font-style: inherit\; font-variant: inherit\; font-weight: inherit\; font-stretch: inherit\; font-size: inherit\; line-height: 22px\; font-family: inherit\; vertical-align: baseline\; color: rgb(40\, 128\, 187)\;" target="_blank">watercolorresort.com/amenities/innspa</a></span></span></span></li>\n	<li><span style="font-size:14px\;"><span style="font-family:arial\;"><span style="margin: 0px\; padding: 0px\; border: 0px\; font-style: inherit\; font-variant: inherit\; font-weight: inherit\; font-stretch: inherit\; line-height: 22px\; vertical-align: baseline\; color: inherit\;">Address:&nbsp\;</span><span style="margin: 0px\; padding: 0px\; border: 0px\; font-style: inherit\; font-variant: inherit\; font-weight: inherit\; font-stretch: inherit\; line-height: 22px\; vertical-align: baseline\;">34 Goldenrod Cir\, Santa Rosa Beach\, FL 32459</span></span></span></li>\n	<li><span style="font-size:14px\;"><span style="font-family:arial\;"><span style="margin: 0px\; padding: 0px\; border: 0px\; font-style: inherit\; font-variant: inherit\; font-weight: inherit\; font-stretch: inherit\; line-height: 22px\; vertical-align: baseline\;">Phone: (850) 534-5010</span></span></span></li>\n</ul>\n
LOCATION:
UID:e.885.32363
SEQUENCE:3
DTSTAMP:20260422T200627Z
URL:https://business.waltonareachamber.com/events/details/father-s-day-special-at-watercolor-innspa-06-20-2021-32363
END:VEVENT

END:VCALENDAR
