BEGIN:VCALENDAR
VERSION:2.0
PRODID:-//ChamberMaster//Event Calendar 2.0//EN
METHOD:PUBLISH
X-PUBLISHED-TTL:P3D
REFRESH-INTERVAL:P3D
CALSCALE:GREGORIAN
BEGIN:VEVENT
DTSTART:20220217T223000Z
DTEND:20220218T003000Z
X-MICROSOFT-CDO-ALLDAYEVENT:FALSE
SUMMARY:February 2022 Business After Hours sponsored by Hyatt Place Sandestin and A Superior Air Conditioning
DESCRIPTION:Please join us for the February 2022 Business After Hours Sponsored by A Superior Air Conditioning and Hosted by Hyatt Place at Sandestin Grand Blvd. \n\n\n\nDon't forget your business cards and door prizes!
X-ALT-DESC;FMTTYPE=text/html:<span style="font-size:24px\;">Please join us for the February 2022 Business After Hours&nbsp\;Sponsored by A Superior Air Conditioning and Hosted by Hyatt Place at Sandestin Grand Blvd.&nbsp\;</span><br />\n<br />\nDon&#39\;t forget your business cards and door prizes!&nbsp\;
LOCATION:Hyatt Place At Sandestin/Grand Blvd 325 Grand Blvd Miramar Beach\, FL 32550
UID:e.885.33239
SEQUENCE:3
DTSTAMP:20260423T095359Z
URL:https://business.waltonareachamber.com/events/details/february-2022-business-after-hours-sponsored-by-hyatt-place-sandestin-and-a-superior-air-conditioning-33239
END:VEVENT

END:VCALENDAR
