BEGIN:VCALENDAR
VERSION:2.0
PRODID:-//ChamberMaster//Event Calendar 2.0//EN
METHOD:PUBLISH
X-PUBLISHED-TTL:P3D
REFRESH-INTERVAL:P3D
CALSCALE:GREGORIAN
BEGIN:VEVENT
DTSTART:20220204T133000Z
DTEND:20220204T150000Z
X-MICROSOFT-CDO-ALLDAYEVENT:FALSE
SUMMARY:February 2022 First Friday Breakfast sponsored by Crescent Advisory & Accounting
DESCRIPTION:Register now for the February 2022 First Friday Breakfast. You don't want to miss award-winning Public Information Officer\, Corey Dobridnia. She will discuss the importance of promoting your brand BEFORE crises hit and why it's critical now more than ever. \n\nFebruary is Heart Health Month so make sure you wear red!
X-ALT-DESC;FMTTYPE=text/html:<span style="color:#B22222\;"><span style="font-size:36px\;"><span style="font-family:arial\;"><strong>Register now for the February 2022 First Friday Breakfast.&nbsp\;<span style="text-align: center\; white-space: pre-wrap\; background-color: rgb(255\, 255\, 255)\;">You don&#39\;t want to miss </span><span style="text-align: center\; white-space: pre-wrap\; background-color: rgb(255\, 255\, 255)\;">award-winning Public Information Officer\, Corey Dobridnia. She will discuss the importance of promoting your brand BEFORE crises hit and why it&#39\;s critical now more than ever. </span><br />\nFebruary is Heart Health Month so make sure you wear red!</strong></span></span></span>
LOCATION:BEST WESTERN CROSSROADS INN 2343 US-331 S\, DeFuniak Springs\, FL 32435
UID:e.885.33236
SEQUENCE:3
DTSTAMP:20260423T094711Z
URL:https://business.waltonareachamber.com/events/details/february-2022-first-friday-breakfast-sponsored-by-crescent-advisory-accounting-33236
END:VEVENT

END:VCALENDAR
