BEGIN:VCALENDAR
VERSION:2.0
PRODID:-//ChamberMaster//Event Calendar 2.0//EN
METHOD:PUBLISH
X-PUBLISHED-TTL:P3D
REFRESH-INTERVAL:P3D
CALSCALE:GREGORIAN
BEGIN:VEVENT
DTSTART:20220209T173000Z
DTEND:20220209T190000Z
X-MICROSOFT-CDO-ALLDAYEVENT:FALSE
SUMMARY:February 2022 Power of Business Lunch sponsored by United Way Emerald Coast
DESCRIPTION:Registration is closed!\n\n\n\nRegister now for our 2022 February Power of Business Lunch sponsored by United Way Emerald Coast. \n\n"How United Way Can Help Your Business Meet Its Corporate Social Responsibility Goals"\n\n\n\n\n\nPre-registration is required.
X-ALT-DESC;FMTTYPE=text/html:<span style="color:#800000\;"><span style="font-size:26px\;"><span style="text-align: center\; font-family: arial\;">Registration is closed!<br />\n<br />\nRegister now&nbsp\;for our 2022 February Power of Business Lunch&nbsp\;</span>sponsored by United Way Emerald Coast.&nbsp\;</span></span><br />\n<span style="font-size:24px\;"><span class="JsGRdQ" style="font-weight: 700\; color: rgb(51\, 14\, 0)\;">&quot\;How United Way Can Help Your Business Meet Its Corporate Social Responsibility Goals&quot\;</span></span><br />\n<br />\n<br />\n<span style="text-align: center\; font-family: arial\;"><strong background-color:="" font-size:="" style="color: rgb(0\, 0\, 128)\;" trebuchet=""><span style="font-size: 24px\;">Pr</span></strong></span><strong background-color:="" font-size:="" style="text-align: center\; font-family: arial\; color: rgb(0\, 0\, 128)\;" trebuchet=""><span style="font-size: 24px\;">e-registration is required.</span></strong>
LOCATION:Hotel Effie Sandestin 1 Grand Sandestin Blvd\, Miramar Beach\, FL 32550
UID:e.885.33237
SEQUENCE:3
DTSTAMP:20260423T095338Z
URL:https://business.waltonareachamber.com/events/details/february-2022-power-of-business-lunch-sponsored-by-united-way-emerald-coast-33237
END:VEVENT

END:VCALENDAR
