BEGIN:VCALENDAR
VERSION:2.0
PRODID:-//ChamberMaster//Event Calendar 2.0//EN
METHOD:PUBLISH
X-PUBLISHED-TTL:P3D
REFRESH-INTERVAL:P3D
CALSCALE:GREGORIAN
BEGIN:VEVENT
DTSTART:20190923T170000Z
DTEND:20190923T190000Z
X-MICROSOFT-CDO-ALLDAYEVENT:FALSE
SUMMARY:Fight the Fall Event
DESCRIPTION:Dizzy? Unsteady? Afraid of falling? You're not alone!\n\nJoin us for our annual "Fight the Fall" event and receive a free fall risk assessment. Lunch will be provided.
X-ALT-DESC;FMTTYPE=text/html:Dizzy? Unsteady? Afraid of falling? You&#39\;re not alone!<br />\nJoin us for our annual &quot\;Fight the Fall&quot\; event and receive a free fall risk assessment. Lunch will be provided.
LOCATION:FYZICAL Therapy & Balance Centers 1030C US Hwy 331s DeFuniak Springs 850-892-7772
UID:e.885.24095
SEQUENCE:3
DTSTAMP:20260420T015517Z
URL:https://business.waltonareachamber.com/events/details/fight-the-fall-event-24095
END:VEVENT

END:VCALENDAR
