BEGIN:VCALENDAR
VERSION:2.0
PRODID:-//ChamberMaster//Event Calendar 2.0//EN
METHOD:PUBLISH
X-PUBLISHED-TTL:P3D
REFRESH-INTERVAL:P3D
CALSCALE:GREGORIAN
BEGIN:VEVENT
DTSTART:20220101T160000Z
DTEND:20220101T180000Z
X-MICROSOFT-CDO-ALLDAYEVENT:FALSE
SUMMARY:First Day HIke
DESCRIPTION:Start the new year off on the right foot!
X-ALT-DESC;FMTTYPE=text/html:Start the new year off on the right foot!&nbsp\;
LOCATION:75 W County Hwy 30A\,SRB\, FL 32459
UID:e.885.33165
SEQUENCE:3
DTSTAMP:20260423T080303Z
URL:https://business.waltonareachamber.com/events/details/first-day-hike-33165
END:VEVENT

END:VCALENDAR
