BEGIN:VCALENDAR
VERSION:2.0
PRODID:-//ChamberMaster//Event Calendar 2.0//EN
METHOD:PUBLISH
X-PUBLISHED-TTL:P3D
REFRESH-INTERVAL:P3D
CALSCALE:GREGORIAN
BEGIN:VEVENT
DTSTART:20211112T180000Z
DTEND:20211112T230000Z
X-MICROSOFT-CDO-ALLDAYEVENT:FALSE
SUMMARY:Flags and Bags Cornhole Tournament
DESCRIPTION:GENERAL MEMBERSHIP MEETING\n\nKitchen and Bath Center\n\n415 Page Bacon Road\, Mary Esther (Park in Mall Parking Lot)\n\nFriday November 12th from 12:00pm - 5:00pm\n\nThis event is free for BIA members and their staff to attend!\n\nLots of great food\, drinks\, door prizes\, and fun! Come out to watch the cornhole tournament and network with BIA Members!\n\n\n\n \n\n\n\n\nSponsorships:\n\nBoard and Bag Sponsor - $1000: Custom logo cornhole boards (If high\n\nres logo received by October 15th)\, Logo recognition on social media and BIA website\, two complimentary teams (4 players)\, and tent space oppor- tunity to market your company and pass out promotional items (must pro- vide tent\, table and chairs)\n\nAir Mail Sponsor - $500: Display table at event\, Logo recognition on so- cial media and BIA website\, one complimentary team (2 players).\n\nAce Sponsor - $150: Display table at event\, must provide drinks for up to 100 people (bring your promotional materials to market your company!)\n\nGoody Bag Items Needed for 100 People\n\nTeam Registration - $100: One Cornhole Team (2 Players)\n\n(Even if you don't play you can sponsor a team for Active Military (We can find the play- ers for you)\n\nLots of Great Food\, Drinks\, Door Prizes\, and Fun! Don't play? You can still attend and network!
X-ALT-DESC;FMTTYPE=text/html:<div class="page" style="caret-color: rgb(0\, 0\, 0)\; color: rgb(0\, 0\, 0)\;" title="Page 1">\n<div class="layoutArea">\n<div class="column">\n<p><span style="display: none\;">&nbsp\;</span><span style="font-family:arial\;"><span style="font-weight: 700\;">GENERAL MEMBERSHIP MEETING</span></span></p>\n\n<p><span style="font-size:14px\;"><span style="font-family:arial\;">Kitchen and Bath Center<br />\n415 Page Bacon Road\, Mary Esther (Park in Mall Parking Lot)</span></span></p>\n\n<p><span style="font-size:14px\;"><span style="font-family:arial\;"><span style="font-weight: 700\;">Friday November 12th from 12:00pm&nbsp\;-&nbsp\;5:00pm</span></span></span></p>\n\n<p><span style="font-size:14px\;"><span style="font-family:arial\;">This event is free for BIA members and their staff to attend!</span></span></p>\n\n<p><span style="font-size:14px\;"><span style="font-family:arial\;">Lots of great food\, drinks\, door prizes\, and fun! Come out to watch the cornhole tournament and network with BIA Members!</span></span><br />\n<br />\n&nbsp\;</p>\n\n<div class="page" style="caret-color: rgb(0\, 0\, 0)\; color: rgb(0\, 0\, 0)\;" title="Page 1">\n<div class="layoutArea">\n<div class="column">\n<p><span style="font-size:14px\;"><span style="font-family:arial\;"><span style="font-weight: 700\;">Sponsorships:<br />\nBoard and Bag Sponsor&nbsp\;</span>-&nbsp\;$1000: Custom logo cornhole boards (If high</span></span></p>\n\n<p><span style="font-size:14px\;"><span style="font-family:arial\;">res logo received by October 15th)\, Logo recognition on social media and BIA website\, two complimentary teams (4 players)\, and tent space oppor- tunity to market your company and pass out promotional items (must pro- vide tent\, table and chairs)</span></span></p>\n\n<p><span style="font-size:14px\;"><span style="font-family:arial\;"><span style="font-weight: 700\;">Air Mail Sponsor&nbsp\;</span>-&nbsp\;$500: Display table at event\, Logo recognition on so- cial media and BIA website\, one complimentary team (2 players).</span></span></p>\n\n<p><span style="font-size:14px\;"><span style="font-family:arial\;"><span style="font-weight: 700\;">Ace Sponsor&nbsp\;</span>-&nbsp\;$150: Display table at event\, must provide drinks for up to 100 people (bring your promotional materials to market your company!)</span></span></p>\n\n<p><span style="font-size:14px\;"><span style="font-family:arial\;"><span style="font-weight: 700\;">Goody Bag Items Needed for 100 People</span></span></span></p>\n\n<p><span style="font-size:14px\;"><span style="font-family:arial\;"><span style="font-weight: 700\;">Team Registration&nbsp\;</span>-&nbsp\;$100: One Cornhole Team (2 Players)<br />\n(Even if you don&rsquo\;t play you can sponsor a team for Active Military (We can find the play- ers for you)</span></span></p>\n\n<p><span style="font-size:14px\;"><span style="font-family:arial\;">Lots of Great Food\, Drinks\, Door Prizes\, and Fun! Don&rsquo\;t play? You can still attend and network!</span></span><span style="display: none\;">&nbsp\;</span></p>\n</div>\n</div>\n</div>\n</div>\n</div>\n</div>\n
LOCATION:Kitchen and Bath Center 415 Page Bacon Road\, Mary Esther (Park in Mall Parking Lot)
UID:e.885.32623
SEQUENCE:3
DTSTAMP:20260423T043756Z
URL:https://business.waltonareachamber.com/events/details/flags-and-bags-cornhole-tournament-32623
END:VEVENT

END:VCALENDAR
