BEGIN:VCALENDAR
VERSION:2.0
PRODID:-//ChamberMaster//Event Calendar 2.0//EN
METHOD:PUBLISH
X-PUBLISHED-TTL:P3D
REFRESH-INTERVAL:P3D
CALSCALE:GREGORIAN
BEGIN:VEVENT
DTSTART:20211020T163000Z
DTEND:20211020T180000Z
X-MICROSOFT-CDO-ALLDAYEVENT:FALSE
SUMMARY:Florida Chamber Economic Development Luncheon
DESCRIPTION:We would love for you to join us and other local Chambers for a complimentary Economic Development Luncheon on Oct. 20\, at the WaterColor LakeHouse. \n\n \n\nWe will hear from Jorge Gonzalez\, President & CEO of the St. Joe Company\, as well as Mark Wilson\, President & CEO of the Florida Chamber of Commerce\, and Dr. Jerry Parrish\, Chief Economist and Director of Research of the Florida Chamber Foundation\, regarding economic development in Northwest Florida. Today is the last day to RSVP.\n\n\n\nRegister here: https://floridaflcoc.weblinkconnect.com/events/Florida-Chamber-Economic-Development-Luncheon-1073/details
X-ALT-DESC;FMTTYPE=text/html:<span style="font-family:arial\;"><span style="font-size:14px\;">We would love for you to join us and other local Chambers for a complimentary Economic Development Luncheon on Oct. 20\, at the WaterColor LakeHouse.&nbsp\;<br />\n&nbsp\;<br />\nWe will hear from Jorge Gonzalez\, President &amp\; CEO of the St. Joe Company\, as well as Mark Wilson\, President &amp\; CEO of the Florida Chamber of Commerce\, and Dr. Jerry Parrish\, Chief Economist and Director of Research of the Florida Chamber Foundation\, regarding economic development in Northwest Florida. Today is the last day to RSVP.</span></span><br />\n<br />\nRegister here:&nbsp\;https://floridaflcoc.weblinkconnect.com/events/Florida-Chamber-Economic-Development-Luncheon-1073/details
LOCATION:WaterColor LakeHouse 235 WaterColor Blvd W Santa Rosa Beach\, FL 32459
UID:e.885.32579
SEQUENCE:3
DTSTAMP:20260423T025209Z
URL:https://business.waltonareachamber.com/events/details/florida-chamber-economic-development-luncheon-32579
END:VEVENT

END:VCALENDAR
