BEGIN:VCALENDAR
VERSION:2.0
PRODID:-//ChamberMaster//Event Calendar 2.0//EN
METHOD:PUBLISH
X-PUBLISHED-TTL:P3D
REFRESH-INTERVAL:P3D
CALSCALE:GREGORIAN
BEGIN:VEVENT
DTSTART;VALUE=DATE:20211018
DTEND;VALUE=DATE:20211025
TRANSP:TRANSPARENT
X-MICROSOFT-CDO-ALLDAYEVENT:TRUE
SUMMARY:Florida City Government is October 18 - October 24\, 2021
DESCRIPTION:Coffee with the Council is Monday\, October 18 in the Council Chambers from 9:00 AM until 10:30 PM.\n\n \n\nTown Hall Meeting - This is an opportunity to meet City Manager\, Mayor\, City Council and City Staff\, each department will showcase what they do at the City. The public will have time to ask questions\, watch demonstrations\, talk with our City Leaders about the future of our City.  Refreshments will be served and there will be opportunities to win door prizes!  A great chance to see how your city works!  Thursday\, October 21\, 2021 at the Chautauqua Hall of Brotherhood from 4:00PM until 7:00PM.
X-ALT-DESC;FMTTYPE=text/html:<span style="font-family:arial\;"><span style="font-size:14px\;"><strong>Coffee with the Council</strong>&nbsp\;is Monday\, October 18 in the Council Chambers from 9:00 AM until 10:30 PM.<br />\n&nbsp\;<br />\n<strong>Town Hall Meeting</strong>&nbsp\;- This is an opportunity to meet City Manager\, Mayor\, City Council and City Staff\, each department will showcase what they do at the City. The public will have time to ask questions\, watch demonstrations\, talk with our City Leaders about the future of our City.&nbsp\; Refreshments will be served and there will be opportunities to win door prizes!&nbsp\; A great chance to see how your city works!&nbsp\; Thursday\, October 21\, 2021 at the Chautauqua Hall of Brotherhood from 4:00PM until 7:00PM.</span></span>
LOCATION:The Council Chambers The Chautauqua Hall of Brotherhood
UID:e.885.32576
SEQUENCE:3
DTSTAMP:20260423T044018Z
URL:https://business.waltonareachamber.com/events/details/florida-city-government-is-october-18-october-24-2021-32576
END:VEVENT

END:VCALENDAR
