BEGIN:VCALENDAR
VERSION:2.0
PRODID:-//ChamberMaster//Event Calendar 2.0//EN
METHOD:PUBLISH
X-PUBLISHED-TTL:P3D
REFRESH-INTERVAL:P3D
CALSCALE:GREGORIAN
BEGIN:VEVENT
DTSTART:20210406T170000Z
DTEND:20210406T180000Z
X-MICROSOFT-CDO-ALLDAYEVENT:FALSE
SUMMARY:Florida PTAC at UWF Presents “Intro to Teaming” – Online Webinar
DESCRIPTION:If you want to learn some of the best-kept secrets of successful small businesses dominating in the federal marketplace\, then this webinar is for you. Florida PTAC at UWF offers Intro to Teaming\, a live\, online webinar\, April 6 from 12:00   1:00 p.m. Learning how to leverage Teaming and Joint Ventures to gain a competitive advantage will enable you to successfully pursue\, win\, and perform some of the largest government contracts available to small businesses. Our speaker will be Carroll Bernard\, Co-Founder at Govology.com No fee. Register at www.sbdc.uwf.edu under "Training & Events". Registration ends 24 hours prior to start time. A link for joining this no-cost webinar will be sent 24 hours prior to those who register. Facilitated by: John DiGiacomo\, Procurement Specialist\, Florida PTAC at UWF.
X-ALT-DESC;FMTTYPE=text/html:<span style="font-size:14px\;"><span style="font-family:arial\;">If you want to learn some of the best-kept secrets of successful small businesses dominating in the federal marketplace\, then this webinar is for you. Florida PTAC at UWF offers Intro to Teaming\, a live\, online webinar\, April 6 from 12:00 &ndash\; 1:00 p.m. Learning how to leverage Teaming and Joint Ventures to gain a competitive advantage will enable you to successfully pursue\, win\, and perform some of the largest government contracts available to small businesses. Our speaker will be Carroll Bernard\, Co-Founder at Govology.com No fee. Register at www.sbdc.uwf.edu under &ldquo\;Training &amp\; Events&rdquo\;. Registration ends 24 hours prior to start time. A link for joining this no-cost webinar will be sent 24 hours prior to those who register. Facilitated by: John DiGiacomo\, Procurement Specialist\, Florida PTAC at UWF.</span></span>
LOCATION:Online
UID:e.885.29154
SEQUENCE:3
DTSTAMP:20260422T125002Z
URL:https://business.waltonareachamber.com/events/details/florida-ptac-at-uwf-presents-intro-to-teaming-online-webinar-29154
END:VEVENT

END:VCALENDAR
