BEGIN:VCALENDAR
VERSION:2.0
PRODID:-//ChamberMaster//Event Calendar 2.0//EN
METHOD:PUBLISH
X-PUBLISHED-TTL:P3D
REFRESH-INTERVAL:P3D
CALSCALE:GREGORIAN
BEGIN:VEVENT
DTSTART:20240718T140000Z
DTEND:20240718T150000Z
X-MICROSOFT-CDO-ALLDAYEVENT:FALSE
SUMMARY:Florida SBDC at UWF Presents “A Roadmap to Small Business Funding”
DESCRIPTION:Join us online July 18 from 9:00   10:00 a.m. online for "A Roadmap to Small Business Funding" and take the first step towards securing the financial foundation your business needs to thrive. Whether you're a seasoned entrepreneur or just starting your journey\, this webinar provides actionable insights that will propel your business towards success. Don't miss this opportunity to map out your path to small business funding excellence! No fee. To register\, visit sbdc.uwf.edu and open "Training & Events".  Presenters:  Lyndsey Blanks\, Business Banker\, Hancock Whitney\; Marsha Asbury-Turner\, Business Development Officer\, Florida First Capital Finance Corporation\; Kelly Massey\, Regionsl Director\, Florida SBDC at UWF. Sponsored by Wells Fargo.
X-ALT-DESC;FMTTYPE=text/html:<span style="color:black"><span style="font-family:calibri\,sans-serif">Join us online July 18 from 9:00 &ndash\; 10:00 a.m. online for &quot\;A Roadmap to Small Business Funding&quot\; and take the first step towards securing the financial foundation your business needs to thrive. Whether you&#39\;re a seasoned entrepreneur or just starting your journey\, this webinar provides actionable insights that will propel your business towards success. Don&#39\;t miss this opportunity to map out your path to small business funding excellence! No fee. </span></span><span style="color:black"><span style="font-family:calibri\,sans-serif">To register\, visit sbdc.uwf.edu and open &ldquo\;Training &amp\; Events&rdquo\;.&nbsp\; </span></span><span style="font-family:calibri\,sans-serif">Presenters: &nbsp\;Lyndsey Blanks\, Business Banker\, Hancock Whitney\; Marsha Asbury-Turner\, Business Development Officer\, Florida First Capital Finance Corporation\; Kelly Massey\, Regionsl Director\, Florida SBDC at UWF. </span><span style="color:#222222"><span style="font-family:calibri\,sans-serif">Sponsored by Wells Fargo.</span></span>
LOCATION:Online
UID:e.885.37474
SEQUENCE:3
DTSTAMP:20260425T181341Z
URL:https://business.waltonareachamber.com/events/details/florida-sbdc-at-uwf-presents-a-roadmap-to-small-business-funding-07-18-2024-37474
END:VEVENT

END:VCALENDAR
