BEGIN:VCALENDAR
VERSION:2.0
PRODID:-//ChamberMaster//Event Calendar 2.0//EN
METHOD:PUBLISH
X-PUBLISHED-TTL:P3D
REFRESH-INTERVAL:P3D
CALSCALE:GREGORIAN
BEGIN:VEVENT
DTSTART:20250403T223000Z
DTEND:20250404T000000Z
X-MICROSOFT-CDO-ALLDAYEVENT:FALSE
SUMMARY:Florida SBDC at UWF Presents "Business Plan Canvas"
DESCRIPTION:Join us for an interactive session exploring the Business Plan Canvas Model - a powerful tool designed to streamline your business planning. Led by SBDC business consultant\, Kevin Oster\, you'll learn how to define your business's vision\, strategy and operational framework.\n\n \n\nThis work is foundational for seeking funding from a variety of lending sources\, which we'll also identify in this workshop.\n\n \n\nNo matter what your business or your stage - launching a start-up\, redefining your strategy in response to growth or preparing to seek funding - this workshop will equip you with the knowledge and tools necessary for success.\n\n \n\nDon't miss this opportunity to enhance your business planning skills and increase your chances of securing funding!
X-ALT-DESC;FMTTYPE=text/html:<p><span style="color:rgb(0\, 0\, 0)\; font-size:18px">Join us for an interactive session exploring the Business Plan Canvas Model - a powerful tool designed to streamline your business planning. Led by SBDC business consultant\, Kevin Oster\, you&#39\;ll learn how to define your business&#39\;s vision\, strategy and operational framework.</span></p>\n\n<p>&nbsp\;</p>\n\n<p><span style="color:rgb(0\, 0\, 0)\; font-size:18px">This work is foundational for seeking funding from a variety of lending sources\, which we&#39\;ll also identify in this workshop.</span></p>\n\n<p>&nbsp\;</p>\n\n<p><span style="color:rgb(0\, 0\, 0)\; font-size:18px">No matter what your business or your stage - launching a start-up\, redefining your strategy in response to growth or preparing to seek funding - this workshop will equip you with the knowledge and tools necessary for success.</span></p>\n\n<p>&nbsp\;</p>\n\n<p><span style="color:rgb(0\, 0\, 0)\; font-size:18px">Don&rsquo\;t miss this opportunity to enhance your business planning skills and increase your chances of securing funding!</span></p>\n
LOCATION:Beachworx Destin 34990 Emerald Coast Pkwy Destin\, FL 32541
UID:e.885.54943
SEQUENCE:3
DTSTAMP:20260423T032059Z
URL:https://business.waltonareachamber.com/events/details/florida-sbdc-at-uwf-presents-business-plan-canvas-54943
END:VEVENT

END:VCALENDAR
