BEGIN:VCALENDAR
VERSION:2.0
PRODID:-//ChamberMaster//Event Calendar 2.0//EN
METHOD:PUBLISH
X-PUBLISHED-TTL:P3D
REFRESH-INTERVAL:P3D
CALSCALE:GREGORIAN
BEGIN:VEVENT
DTSTART:20210318T170000Z
DTEND:20210318T180000Z
X-MICROSOFT-CDO-ALLDAYEVENT:FALSE
SUMMARY:Florida SBDC at UWF Presents “Intro to Facebook Advertising” – Online Webinar
DESCRIPTION:Do you have a Facebook page for your business and think there's an opportunity to reach more customers by running ads? Find out by joining our live\, online webinar\, "Intro to Facebook Advertising"\, on March 18\, 2021 from 12:00   1:00 p.m. This introductory webinar will teach you the basics of what Facebook advertising looks like\, how you get started\, and how to track the success of your ads. No fee. Register at www.sbdc.uwf.edu under "Training & Events". Registration ends 24 hours prior to start time. A link for joining this no-cost webinar will be sent to those who register. Presented by: John Emsing\, Business Consultant\, Florida SBDC at UWF.
X-ALT-DESC;FMTTYPE=text/html:<span style="font-size:14px\;"><span style="font-family:arial\;">Do you have a Facebook page for your business and think there&#39\;s an opportunity to reach more customers by running ads? Find out by joining our live\, online webinar\, &ldquo\;Intro to Facebook Advertising&rdquo\;\, on March 18\, 2021 from 12:00 &ndash\; 1:00 p.m. This introductory webinar will teach you the basics of what Facebook advertising looks like\, how you get started\, and how to track the success of your ads. No fee. Register at www.sbdc.uwf.edu under &ldquo\;Training &amp\; Events&rdquo\;. Registration ends 24 hours prior to start time. A link for joining this no-cost webinar will be sent to those who register. Presented by: John Emsing\, Business Consultant\, Florida SBDC at UWF.</span></span>
LOCATION:Online
UID:e.885.29150
SEQUENCE:3
DTSTAMP:20260422T111324Z
URL:https://business.waltonareachamber.com/events/details/florida-sbdc-at-uwf-presents-intro-to-facebook-advertising-online-webinar-29150
END:VEVENT

END:VCALENDAR
