BEGIN:VCALENDAR
VERSION:2.0
PRODID:-//ChamberMaster//Event Calendar 2.0//EN
METHOD:PUBLISH
X-PUBLISHED-TTL:P3D
REFRESH-INTERVAL:P3D
CALSCALE:GREGORIAN
BEGIN:VEVENT
DTSTART:20210317T150000Z
DTEND:20210317T160000Z
X-MICROSOFT-CDO-ALLDAYEVENT:FALSE
SUMMARY:Florida SBDC at UWF Presents “Sources of Funding for Small Businesses” – Online Webinar
DESCRIPTION:Do you need assistance finding a loan or other financial assistance for your business? Have you been in business for at least one year? Then this webinar is for you! Join us March 17 from 10:00   11:00 a.m. for the online webinar\, "Sources of Funding for Small Businesses". We will provide a comprehensive overview of different loan and other financing options available to you and we will also cover what factors a bank looks for when assessing a loan package. At the end of this webinar\, you will be better informed about the lending process and will have a checklist of action items you need to complete before heading to the bank. No fee. Register at www.sbdc.uwf.edu under "Training & Events". Registration ends 24 hours prior to start time. A link for joining this no-cost webinar will be sent to those who register. Presented by: Ayesha Haider\, Assistant Director\, Florida SBDC at UWF
X-ALT-DESC;FMTTYPE=text/html:<span style="font-size:14px\;"><span style="font-family:arial\;">Do you need assistance finding a loan or other financial assistance for your business? Have you been in business for at least one year? Then this webinar is for you! Join us March 17 from 10:00 &ndash\; 11:00 a.m. for the online webinar\, &ldquo\;Sources of Funding for Small Businesses&rdquo\;. We will provide a comprehensive overview of different loan and other financing options available to you and we will also cover what factors a bank looks for when assessing a loan package. At the end of this webinar\, you will be better informed about the lending process and will have a checklist of action items you need to complete before heading to the bank. No fee. Register at www.sbdc.uwf.edu under &ldquo\;Training &amp\; Events&rdquo\;. Registration ends 24 hours prior to start time. A link for joining this no-cost webinar will be sent to those who register. Presented by: Ayesha Haider\, Assistant Director\, Florida SBDC at UWF</span></span>
LOCATION:Online
UID:e.885.29149
SEQUENCE:3
DTSTAMP:20260422T111513Z
URL:https://business.waltonareachamber.com/events/details/florida-sbdc-at-uwf-presents-sources-of-funding-for-small-businesses-online-webinar-29149
END:VEVENT

END:VCALENDAR
