BEGIN:VCALENDAR
VERSION:2.0
PRODID:-//ChamberMaster//Event Calendar 2.0//EN
METHOD:PUBLISH
X-PUBLISHED-TTL:P3D
REFRESH-INTERVAL:P3D
CALSCALE:GREGORIAN
BEGIN:VEVENT
DTSTART:20240530T140000Z
DTEND:20240530T170000Z
X-MICROSOFT-CDO-ALLDAYEVENT:FALSE
SUMMARY:Florida SBDC at UWF Presents “Starting a Business” – PCB
DESCRIPTION:Have an idea for a business\, but not sure where to start? Take the first step with the Florida SBDC's "Starting a Business" workshop on May 30 from 9:00 am   12:00 pm. In this workshop\, we will discuss the fundamentals of launching your new venture\, including how to determine feasibility and legal structures\, licensing and permitting\, funding options for your business and basic marketing strategies to help you get started! To register\, visit our website at www.sbdc.uwf.edu and click on "Training & Events".  Presented by Marina Boeira-Tarulli\, Business Consultant\, Florida SBDC at UWF.  Sponsored by Wells Fargo.
X-ALT-DESC;FMTTYPE=text/html:<span style="color:black"><span style="font-family:calibri\,sans-serif">Have an idea for a business\, but not sure where to start? </span></span><span style="font-family:calibri\,sans-serif">Take the first step with the Florida SBDC&rsquo\;s &ldquo\;Starting a Business&rdquo\; workshop on May 30 from 9:00 am &ndash\; 12:00 pm. <span style="color:black">In this workshop\, we will discuss&nbsp\;the fundamentals of launching your new venture\, including&nbsp\;how to determine feasibility and legal structures\, licensing and permitting\,&nbsp\;funding options for your business and basic marketing strategies to help you get started! </span>To register\, visit our website at </span><a href="http://www.sbdc.uwf.edu/"><span style="font-family:calibri\,sans-serif">www.sbdc.uwf.edu</span></a><span style="font-family:calibri\,sans-serif"> and click on &ldquo\;Training &amp\; Events&rdquo\;.&nbsp\; Presented by <span style="color:#3C4043">Marina Boeira-Tarulli\, Business Consultant</span>\, Florida SBDC at UWF.&nbsp\; Sponsored by Wells Fargo.</span>
LOCATION:The Hive PCFL\, 109 Harrison Ave\, Panama City\, FL 32401
UID:e.885.37467
SEQUENCE:3
DTSTAMP:20260425T203831Z
URL:https://business.waltonareachamber.com/events/details/florida-sbdc-at-uwf-presents-starting-a-business-pcb-37467
END:VEVENT

END:VCALENDAR
