BEGIN:VCALENDAR
VERSION:2.0
PRODID:-//ChamberMaster//Event Calendar 2.0//EN
METHOD:PUBLISH
X-PUBLISHED-TTL:P3D
REFRESH-INTERVAL:P3D
CALSCALE:GREGORIAN
BEGIN:VEVENT
DTSTART:20240725T233000Z
DTEND:20240726T013000Z
X-MICROSOFT-CDO-ALLDAYEVENT:FALSE
SUMMARY:Fly Guy Thursday
DESCRIPTION:Enjoy shows from fly-board extraordinaire Ben Merrell over the lagoon! Watch as he soars to the sky and makes waves at Baytowne Wharf. Shows are at 6:30 pm and 8:30 pm.
X-ALT-DESC;FMTTYPE=text/html:<span style="color:#40454A"><span style="font-family:arial\,sans-serif">Enjoy shows from fly-board extraordinaire Ben Merrell over the lagoon! Watch as he soars to the sky and makes waves at Baytowne Wharf.&nbsp\;Shows are at 6:30 pm and 8:30 pm.</span></span>
LOCATION:The Village of Baytowne Wharf 9100 Baytowne Wharf Miramar Beach\, FL 32550
UID:e.885.41330
SEQUENCE:3
DTSTAMP:20260425T170319Z
URL:https://business.waltonareachamber.com/events/details/fly-guy-thursday-07-25-2024-41330
END:VEVENT

END:VCALENDAR
