BEGIN:VCALENDAR
VERSION:2.0
PRODID:-//ChamberMaster//Event Calendar 2.0//EN
METHOD:PUBLISH
X-PUBLISHED-TTL:P3D
REFRESH-INTERVAL:P3D
CALSCALE:GREGORIAN
BEGIN:VEVENT
DTSTART:20220521T150000Z
DTEND:20220521T220000Z
X-MICROSOFT-CDO-ALLDAYEVENT:FALSE
SUMMARY:FORE! The Love of Animals Golf Tournament
DESCRIPTION:Alaqua Animal Refuge's Inaugural Golf Tournament will be held on Saturday\, May 21 at Windswept Dune Golf Club in Freeport\, FL. Presented by Top Dog Title Sponsor Insurance Zone\, the tournament will begin at 10 am with a Shotgun Start / Scramble Format. INCLUDES   Ladies and Men's Teams of 4   Individual Players   18 Holes with Cart   Boxed Lunch   2 Drink Tickets   Post-Tournament "Yappy Hour" Awards Ceremony at Alaqua   Tourney Awards   Raffles   Tour the New Refuge   Meet the Animals   Hors d'oeuvres   Beer & Wine There are multiple ways to support the tournament\, including sponsorships: Yappy Hour\, Bird Dog\, Beverage Cart\, Doggie Bag (lunch)\, and Driving Range. Or\, you can sponsor a Tee or Hole with your name\, logo\, or your pet's photo and name! FOR SPONSORSHIP OPPORTUNITIES AND TO REGISTER TODAY: https://bit.ly/AlaquaGolf-2022
X-ALT-DESC;FMTTYPE=text/html:Alaqua Animal Refuge&#39\;s Inaugural Golf Tournament will be held on Saturday\, May 21 at Windswept Dune Golf Club in Freeport\, FL. Presented by Top Dog Title Sponsor Insurance Zone\, the tournament will begin at 10 am with a Shotgun Start / Scramble Format. INCLUDES &mdash\; Ladies and Men&#39\;s Teams of 4 &bull\; Individual Players &bull\; 18 Holes with Cart &bull\; Boxed Lunch &bull\; 2 Drink Tickets &bull\; Post-Tournament &quot\;Yappy Hour&quot\; Awards Ceremony at Alaqua &mdash\; Tourney Awards &bull\; Raffles &bull\; Tour the New Refuge &bull\; Meet the Animals &bull\; Hors d&#39\;oeuvres &bull\; Beer &amp\; Wine There are multiple ways to support the tournament\, including sponsorships: Yappy Hour\, Bird Dog\, Beverage Cart\, Doggie Bag (lunch)\, and Driving Range. Or\, you can sponsor a Tee or Hole with your name\, logo\, or your pet&#39\;s photo and name! FOR SPONSORSHIP OPPORTUNITIES AND TO REGISTER TODAY: https://bit.ly/AlaquaGolf-2022
LOCATION:Windswept Dunes Golf Course 11 Clubhouse Dr - Freeport\, FL 32439 *Highway 20\, 5.5 miles East of the US-331 Junction Yappy Hour Awards Ceremony will be held at Alaqua Animal Refuge\, 155 Dugas Way\, Freeport\, FL 32439 (next door to Windswept).
UID:e.885.33873
SEQUENCE:3
DTSTAMP:20260423T160037Z
URL:https://business.waltonareachamber.com/events/details/fore-the-love-of-animals-golf-tournament-33873
END:VEVENT

END:VCALENDAR
