BEGIN:VCALENDAR
VERSION:2.0
PRODID:-//ChamberMaster//Event Calendar 2.0//EN
METHOD:PUBLISH
X-PUBLISHED-TTL:P3D
REFRESH-INTERVAL:P3D
CALSCALE:GREGORIAN
BEGIN:VEVENT
DTSTART:20250501T170000Z
DTEND:20250501T210000Z
X-MICROSOFT-CDO-ALLDAYEVENT:FALSE
SUMMARY:Free Screenings for Skin Cancer - Dermatology Specialists of FL
DESCRIPTION:May is Skin Cancer Awareness Month\, and we are offering free skin cancer screenings on May 1 to adults who have not had a professional skin exam within the past year. Take the time. Not the risk. Limited appointments available. Call (850) 387-4330 today to schedule.
X-ALT-DESC;FMTTYPE=text/html:May is Skin Cancer Awareness Month\, and we are offering free skin cancer screenings on May 1 to adults who have not had a professional skin exam within the past year. Take the time. Not the risk. Limited appointments available. Call (850) 387-4330 today to schedule.
LOCATION:75 Origins Main Street\, Suite 203\, Watersound\, FL
UID:e.885.54995
SEQUENCE:3
DTSTAMP:20260423T014315Z
URL:https://business.waltonareachamber.com/events/details/free-screenings-for-skin-cancer-dermatology-specialists-of-fl-05-01-2025-54995
END:VEVENT

END:VCALENDAR
