BEGIN:VCALENDAR
VERSION:2.0
PRODID:-//ChamberMaster//Event Calendar 2.0//EN
METHOD:PUBLISH
X-PUBLISHED-TTL:P3D
REFRESH-INTERVAL:P3D
CALSCALE:GREGORIAN
BEGIN:VEVENT
DTSTART:20250515T183000Z
DTEND:20250515T203000Z
X-MICROSOFT-CDO-ALLDAYEVENT:FALSE
SUMMARY:Free Screenings for Skin Cancer - Dermatology Specialists of FL
DESCRIPTION:May is Skin Cancer Awareness Month\, and we are offering free skin cancer screenings on May 15 to adults who have not had a professional skin exam within the past year. Take the time. Not the risk. Limited appointments available. Call (850) 622-0600 today to schedule.
X-ALT-DESC;FMTTYPE=text/html:May is Skin Cancer Awareness Month\, and we are offering free skin cancer screenings on May 15 to adults who have not had a professional skin exam within the past year. Take the time. Not the risk. Limited appointments available. Call (850) 622-0600 today to schedule.
LOCATION:82 Mack Bayou Loop\, Santa Rosa Beach\, FL
UID:e.885.54994
SEQUENCE:3
DTSTAMP:20260423T014315Z
URL:https://business.waltonareachamber.com/events/details/free-screenings-for-skin-cancer-dermatology-specialists-of-fl-05-15-2025-54994
END:VEVENT

END:VCALENDAR
