BEGIN:VCALENDAR
VERSION:2.0
PRODID:-//ChamberMaster//Event Calendar 2.0//EN
METHOD:PUBLISH
X-PUBLISHED-TTL:P3D
REFRESH-INTERVAL:P3D
CALSCALE:GREGORIAN
BEGIN:VEVENT
DTSTART:20210305T000000Z
DTEND:20210305T023000Z
X-MICROSOFT-CDO-ALLDAYEVENT:FALSE
SUMMARY:Freeport Merchants Association Evening Social Hosted By Blanken Management
DESCRIPTION:The FMA and Blanken Management would like to extend an invitation to all of our members and anyone who is interested in becoming a member or has a business that supports Freeport\, to our March Evening Social of 2021.\n\nThe event is free and open to all small business owners in Freeport\, FL.\n\nEnjoy fine food and wine and get to know the members and mission of The FMA.\n\nIt will be held March 4th at The Oar House & Oyster Bar at Freeport Marina from 6:00pm to 8:30 pm.\n\nWe hope that you can join us for an evening of drinks\, food\, and networking with some of our current members as well as our Board Members and citizens of Freeport.\n\nThis month's After Hours Social is sponsored by Blanken Management\n\nPlease join us for an evening of fun and learn more about Blanken Management and how we serve the businesses and the people of Freeport.\n\nIF YOU HAVE A BUSINESS THAT SERVES FREEPORT BRING SOME PROMOTIONAL ITEMS TO RAFFLE OFF. SHOWCASE YOUR BUSINESS.\n\nNO COVER CHARGE. Free food and drink.\n\nBlanken Management
X-ALT-DESC;FMTTYPE=text/html:<div><span style="font-size:14px\;"><span style="font-family:arial\;">The FMA and Blanken Management would like to extend an invitation to all of our members and anyone who is interested in becoming a member or has a business that supports Freeport\, to our March Evening Social of 2021.</span></span></div>\n\n<div><span style="font-size:14px\;"><span style="font-family:arial\;">The event is free and open to all small business owners in Freeport\, FL.</span></span></div>\n\n<div><span style="font-size:14px\;"><span style="font-family:arial\;">Enjoy fine food and wine and get to know the members and mission of The FMA.</span></span></div>\n\n<div><span style="font-size:14px\;"><span style="font-family:arial\;">It will be held March 4th at The Oar House &amp\; Oyster Bar at Freeport Marina from 6:00pm to 8:30 pm.</span></span></div>\n\n<div><span style="font-size:14px\;"><span style="font-family:arial\;">We hope that you can join us for an evening of drinks\, food\, and networking with some of our current members as well as our Board Members and citizens of Freeport.</span></span></div>\n\n<div><span style="font-size:14px\;"><span style="font-family:arial\;">This month&#39\;s After Hours Social is sponsored by Blanken Management</span></span></div>\n\n<div><span style="font-size:14px\;"><span style="font-family:arial\;">Please join us for an evening of fun and learn more about Blanken Management and how we serve the businesses and the people of Freeport.</span></span></div>\n\n<div><span style="font-size:14px\;"><span style="font-family:arial\;">IF YOU HAVE A BUSINESS THAT SERVES FREEPORT BRING SOME PROMOTIONAL ITEMS TO RAFFLE OFF. SHOWCASE YOUR BUSINESS.</span></span></div>\n\n<div><span style="font-size:14px\;"><span style="font-family:arial\;">NO COVER CHARGE. Free food and drink.</span></span></div>\n\n<div><span style="font-size:14px\;"><span style="font-family:arial\;">Blanken Management</span></span></div>\n
LOCATION:Oar House and Oyster Bar at Freeport Marina 621 Marina Village Blvd\, Freeport\, FL 32439
UID:e.885.29141
SEQUENCE:3
DTSTAMP:20260422T111202Z
URL:https://business.waltonareachamber.com/events/details/freeport-merchants-association-evening-social-hosted-by-blanken-management-29141
END:VEVENT

END:VCALENDAR
