BEGIN:VCALENDAR
VERSION:2.0
PRODID:-//ChamberMaster//Event Calendar 2.0//EN
METHOD:PUBLISH
X-PUBLISHED-TTL:P3D
REFRESH-INTERVAL:P3D
CALSCALE:GREGORIAN
BEGIN:VEVENT
DTSTART:20211007T230000Z
DTEND:20211008T010000Z
X-MICROSOFT-CDO-ALLDAYEVENT:FALSE
SUMMARY:Freeport Merchants Association October Event
DESCRIPTION:Freeport Merchants Association October Event\n\n\n\nFood & Drinks & Fun\n\n\n\nSponsored by Program Liftoff
X-ALT-DESC;FMTTYPE=text/html:Freeport Merchants Association October Event<br />\n<br />\nFood &amp\; Drinks &amp\; Fun<br />\n<br />\nSponsored by Program Liftoff
LOCATION:@ Westonwood Ranch 4390 FL - 20\, Freeport\, FL 32439
UID:e.885.32575
SEQUENCE:3
DTSTAMP:20260423T043315Z
URL:https://business.waltonareachamber.com/events/details/freeport-merchants-association-october-event-32575
END:VEVENT

END:VCALENDAR
