BEGIN:VCALENDAR
VERSION:2.0
PRODID:-//ChamberMaster//Event Calendar 2.0//EN
METHOD:PUBLISH
X-PUBLISHED-TTL:P3D
REFRESH-INTERVAL:P3D
CALSCALE:GREGORIAN
BEGIN:VEVENT
DTSTART:20210504T230000Z
DTEND:20210505T030000Z
X-MICROSOFT-CDO-ALLDAYEVENT:FALSE
SUMMARY:G317 Community Emergency Response Team (CERT) Training
DESCRIPTION:COURSE TITLE: G317 Community Emergency Response Team (CERT) Training\n\n\n\nDATES: April 27\, 29\, May 4\, 6\, 8 (You must attend all dates to complete the course.)\n\n\n\nTIME: Tuesdays and Thursdays: 6:00 p.m. to 10:00 p.m. Saturday: 8:30 a.m. to 5:00 p.m\n\n\n\nLOCATION: Santa Rosa Beach Community Church 3524 US-98 Santa Rosa Beach\, FL 32459\n\n\n\nPREREQUISITES: NONE\n\n\n\nDESCRIPTION: The Community Emergency Response Team (CERT) Program educates people about disaster preparedness for hazards that may impact their area and trains them in basic disaster response skills\, such as fire safety\, light search and rescue\, team organization\, and disaster medical operations. Using the training learned in the classroom and during exercises\, CERT members can assist others in their neighborhood or workplace following an event when professional responders are not immediately available to help. CERT members also are encouraged to support emergency response agencies by taking a more active role in emergency preparedness projects in their community.\n\n\n\nPOC: Chris Eliadis (850) 892-8065 option 3 Chris@WaltonCountyEM.org\n\n\n\nINSTRUCTOR(S): Walton County Emergency Management CERT Instructors\n\n\n\nENROLLMENT: https://forms.gle/FYnrwhHMda8hXhrV8%20 COST: NONE\n\n\n\nSPONSORED BY: Walton County Emergency Management. NOTES: You must attend all training sessions to receive a course completion certificate. For the safety of all those involved\, social distancing and proper PPE will be highly encouraged.
X-ALT-DESC;FMTTYPE=text/html:<span style="font-size:14px\;"><span style="font-family:arial\;">COURSE TITLE: G317 Community Emergency Response Team (CERT) Training<br />\n<br />\nDATES: April 27\, 29\, May 4\, 6\, 8 (You must attend all dates to complete the course.)<br />\n<br />\nTIME: Tuesdays and Thursdays: 6:00 p.m. to 10:00 p.m. Saturday: 8:30 a.m. to 5:00 p.m<br />\n<br />\nLOCATION: Santa Rosa Beach Community Church 3524 US-98 Santa Rosa Beach\, FL 32459<br />\n<br />\nPREREQUISITES: NONE<br />\n<br />\nDESCRIPTION: The Community Emergency Response Team (CERT) Program educates people about disaster preparedness for hazards that may impact their area and trains them in basic disaster response skills\, such as fire safety\, light search and rescue\, team organization\, and disaster medical operations. Using the training learned in the classroom and during exercises\, CERT members can assist others in their neighborhood or workplace following an event when professional responders are not immediately available to help. CERT members also are encouraged to support emergency response agencies by taking a more active role in emergency preparedness projects in their community.<br />\n<br />\nPOC: Chris Eliadis (850) 892-8065 option 3 Chris@WaltonCountyEM.org<br />\n<br />\nINSTRUCTOR(S): Walton County Emergency Management CERT Instructors<br />\n<br />\nENROLLMENT: https://forms.gle/FYnrwhHMda8hXhrV8%20 COST: NONE<br />\n<br />\nSPONSORED BY: Walton County Emergency Management. NOTES: You must attend all training sessions to receive a course completion certificate. For the safety of all those involved\, social distancing and proper PPE will be highly encouraged.</span></span>
LOCATION:
UID:e.885.29399
SEQUENCE:3
DTSTAMP:20260422T142431Z
URL:https://business.waltonareachamber.com/events/details/g317-community-emergency-response-team-cert-training-29399
END:VEVENT

END:VCALENDAR
