BEGIN:VCALENDAR
VERSION:2.0
PRODID:-//ChamberMaster//Event Calendar 2.0//EN
METHOD:PUBLISH
X-PUBLISHED-TTL:P3D
REFRESH-INTERVAL:P3D
CALSCALE:GREGORIAN
BEGIN:VEVENT
DTSTART:20230309T210000Z
DTEND:20230309T230000Z
X-MICROSOFT-CDO-ALLDAYEVENT:FALSE
SUMMARY:Get a Grip on your Business - EOS tools that improve your efficiency!
DESCRIPTION:Mike Ellicott introduces us to the EOS model. When these 6 elements of any business are managed correctly\, that business becomes great!\n\n\n\n\nM ike Ellicott is a military veteran and first-generation entrepreneur. In his nearly 30 years of professional business leadership\, he's felt the same frustrations and challenges you're experiencing. But then he discovered EOS\, Entrepreneurs Operating System. EOS so improved his business that he became an EOS implementor and now he helps businesses just like yours gain traction.\n\nD esigned by Gino Wickman\, an entrepreneur working in his family enterprise\, EOS identifies six elements of business that must be correctly and consistently managed in order for your business to gain traction and grow.\n\nIn this workshop Mike will present a high level overview of of these six elements and inspire you to operate your business with intention. At the end of this event\, everyone will walk away with at least one tool\, process or idea that can be implemented immediately to improve your business.\n\nSpecifically\, attendees will walk away understanding how to:\n\n\n	Strengthen their Vision by aligning the entire organization on where it is going and the process that will get it there\n	Gaining Traction - improving your ability to execute on your Vision with focus\, discipline and accountability across the organization\n	Create a Healthy team - a team of people who work together well and truly enjoy spending time together doing the work of the business\n\n\nT his event is open to the public and will be of particular interest to veterans transitioning to entrepreneurship or civilian employment. The clearly defined goals and accountabilities of EOS mirror the decisiveness fundamental to military service\, but many civilian businesses struggle to align. To help translate the skills learned in the military to entrepreneurship\, Veterans Florida and statewide partner organizations\, like Beachworx\, have joined forces to offer the Veterans Florida Entrepreneurship Program\, of which this workshop is an initiative.\n\nThis event will also be offered in virtual format. Everyone who attends in person also gets a complimentary ticket to the networking happy hour immediately following the workshop.
X-ALT-DESC;FMTTYPE=text/html:<p class="summary" style="margin-top: 0px\; margin-right: 0px\; margin-bottom: calc(4*var(--base-unit))\; margin-left: 0px\; padding: 0px\; box-sizing: border-box\; word-break: break-word\; font-size: 14px\; line-height: 1.5rem\; color: rgb(57\, 54\, 79)\; font-family: &quot\;Neue Plak&quot\;\, -apple-system\, BlinkMacSystemFont\, Roboto\, &quot\;Helvetica Neue&quot\;\, Helvetica\, Tahoma\, Arial\, sans-serif\; background-color: rgb(255\, 255\, 255)\;"><span style="font-weight: 600\; box-sizing: border-box\;">Mike Ellicott introduces us to the EOS model. When these 6 elements of any business are managed correctly\, that business becomes great!</span></p>\n\n<div>\n<div class="eds-l-mar-vert-6 eds-l-sm-mar-vert-4 eds-text-bm structured-content-rich-text" style="margin: 24px 0px\; padding: 0px\; text-rendering: optimizelegibility\; font-size: 14px\; line-height: 1.25rem\; box-sizing: border-box\; color: rgb(57\, 54\, 79)\; font-family: &quot\;Neue Plak&quot\;\, -apple-system\, BlinkMacSystemFont\, Roboto\, &quot\;Helvetica Neue&quot\;\, Helvetica\, Tahoma\, Arial\, sans-serif\; background-color: rgb(255\, 255\, 255)\;">\n<div class="eds-text--left" style="margin: 0px\; padding: 0px\; box-sizing: border-box\;">\n<p style="margin: 0px\; padding: 0px\; box-sizing: border-box\; color: rgb(111\, 114\, 135)\; font-size: 16px\; line-height: 1.5rem\;">M&#65279\;ike Ellicott is a military veteran and first-generation entrepreneur. In his nearly 30 years of professional business leadership\, he&#39\;s felt the same frustrations and challenges you&#39\;re experiencing. But then he discovered EOS\, Entrepreneurs Operating System. EOS so improved his business that he became an EOS implementor and now he helps businesses just like yours gain traction.</p>\n\n<p style="margin: 0px\; padding: 10px 0px 0px\; box-sizing: border-box\; color: rgb(111\, 114\, 135)\; font-size: 16px\; line-height: 1.5rem\;">D&#65279\;esigned by Gino Wickman\, an entrepreneur working in his family enterprise\, EOS identifies six elements of business that must be correctly and consistently managed in order for your business to gain traction and grow.</p>\n\n<p style="margin: 0px\; padding: 10px 0px 0px\; box-sizing: border-box\; color: rgb(111\, 114\, 135)\; font-size: 16px\; line-height: 1.5rem\;">In this workshop Mike will present a high level overview of of these six elements and inspire you to operate your business with intention. At the end of this event\, everyone will walk away with at least one tool\, process or idea that can be implemented immediately to improve your business.</p>\n\n<p style="margin: 0px\; padding: 10px 0px 0px\; box-sizing: border-box\; color: rgb(111\, 114\, 135)\; font-size: 16px\; line-height: 1.5rem\;">Specifically\, attendees will walk away understanding how to:</p>\n\n<ul style="margin: 0px\; padding: 10px 0px 0px 2em\; list-style-position: initial\; list-style-image: initial\; box-sizing: border-box\; color: rgb(111\, 114\, 135)\; font-size: 16px\; line-height: 1.5rem\;">\n	<li style="margin: 0px\; padding: 0px\; box-sizing: border-box\;">Strengthen their&nbsp\;<span style="font-weight: 700\; box-sizing: border-box\; padding-top: 0px\;">Vision</span>&nbsp\;by aligning the entire organization on where it is going and the process that will get it there</li>\n	<li style="margin: 0px\; padding: 5px 0px 0px\; box-sizing: border-box\;">Gaining&nbsp\;<span style="font-weight: 700\; box-sizing: border-box\; padding-top: 0px\;">Traction</span>&nbsp\;- improving your ability to execute on your Vision with focus\, discipline and accountability across the organization</li>\n	<li style="margin: 0px\; padding: 5px 0px 0px\; box-sizing: border-box\;">Create a&nbsp\;<span style="font-weight: 700\; box-sizing: border-box\; padding-top: 0px\;">Healthy</span>&nbsp\;team - a team of people who work together well and truly enjoy spending time together doing the work of the business</li>\n</ul>\n\n<p style="margin: 0px\; padding: 10px 0px 0px\; box-sizing: border-box\; color: rgb(111\, 114\, 135)\; font-size: 16px\; line-height: 1.5rem\;">T&#65279\;his event is open to the public and will be of particular interest to veterans transitioning to entrepreneurship or civilian employment. The clearly defined goals and accountabilities of EOS mirror the decisiveness fundamental to military service\, but many civilian businesses struggle to align. To help translate the skills learned in the military to entrepreneurship\, Veterans Florida and statewide partner organizations\, like Beachworx\, have joined forces to offer the Veterans Florida Entrepreneurship Program\, of which this workshop is an initiative.</p>\n\n<p style="margin: 0px\; padding: 10px 0px 0px\; box-sizing: border-box\; color: rgb(111\, 114\, 135)\; font-size: 16px\; line-height: 1.5rem\;">This event will also be offered in virtual format. Everyone who attends in person also gets a complimentary ticket to the networking happy hour immediately following the workshop.</p>\n\n<div>&nbsp\;</div>\n</div>\n</div>\n</div>\n\n<section aria-label="Organizer profile" class="simplified-organizer-info" data-testid="simplified-organizer-info" style="display: flex\; box-sizing: border-box\; background: rgb(248\, 247\, 250)\; border-radius: var(--base-unit)\; padding: calc(2*var(--base-unit)) calc(3*var(--base-unit))\; -webkit-box-orient: horizontal\; -webkit-box-direction: normal\; flex-direction: row\; -webkit-box-align: center\; align-items: center\; margin-bottom: calc(6*var(--base-unit))\; color: rgb(57\, 54\, 79)\; font-family: &quot\;Neue Plak&quot\;\, -apple-system\, BlinkMacSystemFont\, Roboto\, &quot\;Helvetica Neue&quot\;\, Helvetica\, Tahoma\, Arial\, sans-serif\; font-size: 14px\;">\n<div class="simplified-organizer-info__profile" style="margin-top: 0px\; margin-right: calc(2*var(--base-unit))\; margin-bottom: 0px\; margin-left: 0px\; padding: 0px\; box-sizing: border-box\; display: flex\; -webkit-box-orient: horizontal\; -webkit-box-direction: normal\; flex-direction: row\; -webkit-box-align: center\; align-items: center\;">&nbsp\;</div>\n</section>\n
LOCATION:Beachworx
UID:e.885.34381
SEQUENCE:3
DTSTAMP:20260424T051841Z
URL:https://business.waltonareachamber.com/events/details/get-a-grip-on-your-business-eos-tools-that-improve-your-efficiency-34381
END:VEVENT

END:VCALENDAR
