BEGIN:VCALENDAR
VERSION:2.0
PRODID:-//ChamberMaster//Event Calendar 2.0//EN
METHOD:PUBLISH
X-PUBLISHED-TTL:P3D
REFRESH-INTERVAL:P3D
CALSCALE:GREGORIAN
BEGIN:VEVENT
DTSTART:20251118T223000Z
DTEND:20251119T013000Z
X-MICROSOFT-CDO-ALLDAYEVENT:FALSE
SUMMARY:Girls Night In: Mahjong\, Pajamas & Prosecco
DESCRIPTION:Girls Night In: Mahjong\, Pajamas & Prosecco\n\nGet ready for a glam night out (or in!) at Blush Beauty Lounge for Girls Night In: Mahjong\, Pajamas & Prosecco!\n\nSlip into your cutest PJ's and enjoy an evening of fun and relaxation featuring Mahjong lessons and play led by Beach Mahj 30A\, delicious charcuterie\, bubbles\, giveaways\, mini treatments\, and more! Whether you're a Mahjong pro or a complete beginner\, this night is all about good vibes\, good company\, and a little friendly competition.\n\n  Date: November 18\, 2025\n\n  Time: 4:30   7:30 p.m.\n\n  Location: Blush Beauty Lounge\, 32 East County Highway 30A\, Suite 202\n\n  Tickets: $65   available at bit.ly/blushgirls\n\nDon't miss this fun and fabulous evening of Mahjong\, mingling\, and making memories!\n\nHosted by: Blush Beauty Lounge\n\nFeaturing: Beach Mahj 30A & Good Clean Wine
X-ALT-DESC;FMTTYPE=text/html:<p data-end="49" data-start="0"><strong data-end="47" data-start="0">Girls Night In: Mahjong\, Pajamas &amp\; Prosecco</strong></p>\n\n<p data-end="170" data-start="51">Get ready for a glam night out (or in!) at <strong data-end="117" data-start="94">Blush Beauty Lounge</strong> for <em data-end="168" data-start="122">Girls Night In: Mahjong\, Pajamas &amp\; Prosecco!</em></p>\n\n<p data-end="513" data-start="172">Slip into your cutest PJ&rsquo\;s and enjoy an evening of fun and relaxation featuring Mahjong lessons and play led by <strong data-end="302" data-start="284">Beach Mahj 30A</strong>\, delicious charcuterie\, bubbles\, giveaways\, mini treatments\, and more! Whether you&rsquo\;re a Mahjong pro or a complete beginner\, this night is all about good vibes\, good company\, and a little friendly competition.</p>\n\n<p data-end="740" data-start="515">&#128197\; <strong data-end="527" data-start="518">Date:</strong> November 18\, 2025<br data-end="548" data-start="545" />\n&#9200\; <strong data-end="559" data-start="550">Time:</strong> 4:30 &ndash\; 7:30 p.m.<br data-end="579" data-start="576" />\n&#128205\; <strong data-end="595" data-start="582">Location:</strong> Blush Beauty Lounge\, 32 East County Highway 30A\, Suite 202<br data-end="657" data-start="654" />\n&#128178\; <strong data-end="672" data-start="660">Tickets:</strong> $65 &mdash\; available at <a class="decorated-link cursor-pointer" data-end="738" data-start="692" rel="noopener" target="_new">bit.ly/blushgirls<span aria-hidden="true" class="ms-0.5 inline-block align-middle leading-none"><svg class="block h-[0.75em] w-[0.75em] stroke-current stroke-[0.75]" data-rtl-flip="" fill="currentColor" height="20" viewbox="0 0 20 20" width="20" xmlns="http://www.w3.org/2000/svg"><path d="M14.3349 13.3301V6.60645L5.47065 15.4707C5.21095 15.7304 4.78895 15.7304 4.52925 15.4707C4.26955 15.211 4.26955 14.789 4.52925 14.5293L13.3935 5.66504H6.66011C6.29284 5.66504 5.99507 5.36727 5.99507 5C5.99507 4.63273 6.29284 4.33496 6.66011 4.33496H14.9999L15.1337 4.34863C15.4369 4.41057 15.665 4.67857 15.665 5V13.3301C15.6649 13.6973 15.3672 13.9951 14.9999 13.9951C14.6327 13.9951 14.335 13.6973 14.3349 13.3301Z"></path></svg></span></a></p>\n\n<p data-end="827" data-start="742">Don&rsquo\;t miss this fun and fabulous evening of Mahjong\, mingling\, and making memories!</p>\n\n<p data-end="913" data-is-last-node="" data-is-only-node="" data-start="829"><strong data-end="843" data-start="829">Hosted by:</strong> Blush Beauty Lounge<br data-end="866" data-start="863" />\n<strong data-end="880" data-start="866">Featuring:</strong> Beach Mahj 30A &amp\; Good Clean Wine</p>\n
LOCATION:Location: Blush Beauty Lounge\, 32 East County Highway 30A\, Suite 202
UID:e.885.56109
SEQUENCE:3
DTSTAMP:20260422T160026Z
URL:https://business.waltonareachamber.com/events/details/girls-night-in-mahjong-pajamas-prosecco-56109
END:VEVENT

END:VCALENDAR
