BEGIN:VCALENDAR
VERSION:2.0
PRODID:-//ChamberMaster//Event Calendar 2.0//EN
METHOD:PUBLISH
X-PUBLISHED-TTL:P3D
REFRESH-INTERVAL:P3D
CALSCALE:GREGORIAN
BEGIN:VEVENT
DTSTART;VALUE=DATE:20211130
DTEND;VALUE=DATE:20211201
TRANSP:TRANSPARENT
X-MICROSOFT-CDO-ALLDAYEVENT:TRUE
SUMMARY:Giving Tuesday The Cultural Arts Alliance of Walton County
DESCRIPTION:We're Just One Week Away From One Of The Biggest Giving Days Of The Year!\n\n \n\nOn last year's #GivingTuesday\, you helped us raise over $4\,500 towards the deployment of the nation's first Underwater Museum of Art's third sculpture deployment! This year\, when you give to the CAA\, your donation supports our Art for All funding! The CAA continues to recognize the the importance of supporting\, stimulating and encouraging the arts to thrive in our community. In fact\, it's been our passion since the very start. Almost 30 years ago\, a group of artists\, community volunteers and art lovers organized the very first Flutterby Arts Festival in order to energize and inspire the arts in Walton County. Over the years this founding vision has grown into the Art For All program. Through this program\, the CAA has provided hundreds of thousands of dollars impacting tens of thousands of people through annual funding opportunities for students\, teachers\, artists and arts organizations.  \n\nWe invite you to help us continue to energize and encourage our creative community by joining us for #GivingTuesday. ONE WEEK from today on Tuesday\, November 30\, you can donate and spreading the word on your social channels to inspire others to collaborate in strengthening our community by giving back to the Cultural Arts Alliance.\n\nWant to amplify your giving efforts? In support of #GivingTuesday 2021\, Meta (the parent company of Facebook\, Instagram and What's App) is matching donations made on Facebook to qualifying nonprofits up to a total of $8 million. We will host an online fundraiser on the CAA Facebook page on November 30 with giving beginning at 7AM CST. Dollar for Dollar matching funds will expire once $2 million in donations are reached across all participating non-profits. For the remaining $6 million\, Meta will match 10% of your donation. Matches are made on a first-come\, first-served basis and will continue until the $8 million fund has been met. So\, set a reminder now to GIVE EARLY to maximize your contribution! \n\n \n\n \n\nThe Cultural Arts Alliance of Walton County (CAA) has once again joined #GivingTuesday\, a global day of giving that harnesses the collective power of individuals\, communities and organizations to encourage philanthropy and to celebrate generosity worldwide. \n\n \n\n#GivingTuesday is on Tuesday\, November 30\, 2021 and provides an opportunity for people around the world to stand together in unity let's rally to support and raise funds for our creative community! \n\n \n\nWe invite you to join us for our Season of Giving by making a donation. Your contribution will make an impact\, whether you donate $5 or $500. Every little bit helps! \n\n \n\nThis year\, when you give to the CAA\, your donation supports our Art for All funding! The CAA continues to recognize the the importance of supporting\, stimulating and encouraging the arts to thrive in our community. In fact\, it's been our passion since the very start. \n\n \n\nAlmost 30 years ago\, a group of artists\, community volunteers and art lovers organized the very first Flutterby Arts Festival in order to energize and inspire the arts in Walton County. Over the years this founding vision has grown into the Art For All program. Through this program\, the CAA has provided hundreds of thousands of dollars impacting tens of thousands of people through annual funding opportunities for students\, teachers\, artists and arts organizations. Help us continue to energize and encourage our creative community! \n\n \n\nWe appreciate your support and have included information about Cultural Arts Alliance of Walton County below. \n\n \n\nMISSION of the Cultural Arts Alliance (CAA)\n\nServing as an umbrella organization\, the Cultural Arts Alliance of Walton County supports the arts through leadership\, advocacy\, funding\, programs and education.\n\n \n\nVISION of the Cultural Arts Alliance (CAA)\n\nTo be the catalyst for Walton County's growth as a center for artistic and cultural excellence through which lives are enriched\, economy is stimulated and community is strengthened.\n\n \n\nFacebook pays all the processing fees for you\, so 100% of your donation goes directly to the nonprofit.
X-ALT-DESC;FMTTYPE=text/html:<p style="margin: 0px 0px 2px\; font-stretch: normal\; font-size: 16px\; line-height: normal\; font-family: &quot\;Helvetica Neue&quot\;\;"><b>We&rsquo\;re Just One Week Away From One Of The Biggest Giving Days Of The Year!</b></p>\n\n<p style="margin: 0px\; font-stretch: normal\; line-height: normal\; font-family: &quot\;Helvetica Neue&quot\;\; min-height: 15px\;">&nbsp\;</p>\n\n<p style="margin: 0px\; font-stretch: normal\; line-height: normal\; font-family: &quot\;Helvetica Neue&quot\;\;">On last year&#39\;s #GivingTuesday\, <b>you helped us raise over $4\,500</b> towards the deployment of the nation&#39\;s first Underwater Museum of Art&#39\;s third sculpture deployment! This year\, when you give to the CAA\, your donation supports our Art for All funding! The CAA continues to recognize the the importance of supporting\, stimulating and encouraging the arts to thrive in our community. In fact\, it&#39\;s been our passion since the very start. Almost 30 years ago\, a group of artists\, community volunteers and art lovers organized the very first Flutterby Arts Festival in order to energize and inspire the arts in Walton County. <b>Over the years this founding vision has grown into the Art For All program. Through this program\, the CAA has provided hundreds of thousands of dollars impacting tens of thousands of people through annual funding opportunities for students\, teachers\, artists and arts organizations. </b>&nbsp\;</p>\n\n<p style="margin: 0px\; font-stretch: normal\; line-height: normal\; font-family: &quot\;Helvetica Neue&quot\;\;">We invite you to help us continue to energize and encourage our creative community by joining us for #GivingTuesday. ONE WEEK from today on Tuesday\, November 30\, you can donate and spreading the word on your social channels to inspire others to collaborate in strengthening our community by giving back to the <a href="https://t.e2ma.net/click/o5l1nnb/k6nws5r/co0bswl"><span style="color: rgb(220\, 161\, 13)\;"><b>Cultural Arts Alliance</b></span></a>.</p>\n\n<p style="margin: 0px\; font-stretch: normal\; line-height: normal\; font-family: &quot\;Helvetica Neue&quot\;\;">Want to&nbsp\;amplify your giving efforts? In support of #GivingTuesday 2021\, Meta (the parent company of Facebook\, Instagram and What&#39\;s App) is matching donations made on Facebook to qualifying nonprofits up to a total of $8 million. We will host an online fundraiser on the <a href="https://t.e2ma.net/click/o5l1nnb/k6nws5r/sg1bswl"><span style="color: rgb(220\, 161\, 13)\;"><b>CAA Facebook page</b></span></a>&nbsp\;on November 30 with giving <b>beginning at&nbsp\;7AM CST</b>. Dollar for Dollar matching funds will expire once $2 million in donations are reached across all participating non-profits. For the remaining $6 million\, Meta will match 10% of your donation. Matches are made on a first-come\, first-served basis and will continue until the $8 million fund has been met. So\, set a reminder now to <b>GIVE EARLY to maximize your contribution!&nbsp\;</b></p>\n\n<p style="margin: 0px\; font-stretch: normal\; line-height: normal\; font-family: &quot\;Helvetica Neue&quot\;\; min-height: 16px\;">&nbsp\;</p>\n\n<p style="margin: 0px\; font-stretch: normal\; line-height: normal\; font-family: &quot\;Helvetica Neue&quot\;\; min-height: 15px\;">&nbsp\;</p>\n\n<p style="margin: 0px\; font-stretch: normal\; line-height: normal\; font-family: &quot\;Helvetica Neue&quot\;\;">The Cultural Arts Alliance of Walton County (CAA) has once again joined #GivingTuesday\, a global day of giving that harnesses the collective power of individuals\, communities and organizations to encourage philanthropy and to celebrate generosity worldwide.&nbsp\;</p>\n\n<p style="margin: 0px\; font-stretch: normal\; line-height: normal\; font-family: &quot\;Helvetica Neue&quot\;\; min-height: 15px\;">&nbsp\;</p>\n\n<p style="margin: 0px\; font-stretch: normal\; line-height: normal\; font-family: &quot\;Helvetica Neue&quot\;\;"><span style="color: #dca10d"><a href="https://www.facebook.com/hashtag/givingtuesday?__eep__=6&amp\;epa=HASHTAG">#GivingTuesday</a></span> is on Tuesday\, November 30\, 2021 and provides an opportunity for people around the world to stand together in unity&mdash\;let&rsquo\;s rally to support and raise funds for our creative community!&nbsp\;</p>\n\n<p style="margin: 0px\; font-stretch: normal\; line-height: normal\; font-family: &quot\;Helvetica Neue&quot\;\; min-height: 15px\;">&nbsp\;</p>\n\n<p style="margin: 0px\; font-stretch: normal\; line-height: normal\; font-family: &quot\;Helvetica Neue&quot\;\;">We invite you to join us for our Season of Giving by making a donation. Your contribution will make an impact\, whether you donate $5 or $500. Every little bit helps!&nbsp\;</p>\n\n<p style="margin: 0px\; font-stretch: normal\; line-height: normal\; font-family: &quot\;Helvetica Neue&quot\;\; min-height: 15px\;">&nbsp\;</p>\n\n<p style="margin: 0px\; font-stretch: normal\; line-height: normal\; font-family: &quot\;Helvetica Neue&quot\;\;">This year\, when you give to the CAA\, your donation supports our Art for All funding! The CAA continues to recognize the the importance of supporting\, stimulating and encouraging the arts to thrive in our community. In fact\, it&#39\;s been our passion since the very start.&nbsp\;</p>\n\n<p style="margin: 0px\; font-stretch: normal\; line-height: normal\; font-family: &quot\;Helvetica Neue&quot\;\; min-height: 15px\;">&nbsp\;</p>\n\n<p style="margin: 0px\; font-stretch: normal\; line-height: normal\; font-family: &quot\;Helvetica Neue&quot\;\;">Almost 30 years ago\, a group of artists\, community volunteers and art lovers organized the very first Flutterby Arts Festival in order to energize and inspire the arts in Walton County. Over the years this founding vision has grown into the Art For All program. Through this program\, the CAA has provided hundreds of thousands of dollars impacting tens of thousands of people through annual funding opportunities for students\, teachers\, artists and arts organizations. Help us continue to energize and encourage our creative community!&nbsp\;</p>\n\n<p style="margin: 0px\; font-stretch: normal\; line-height: normal\; font-family: &quot\;Helvetica Neue&quot\;\; min-height: 15px\;">&nbsp\;</p>\n\n<p style="margin: 0px\; font-stretch: normal\; line-height: normal\; font-family: &quot\;Helvetica Neue&quot\;\;">We appreciate your support and have included information about Cultural Arts Alliance of Walton County below.&nbsp\;</p>\n\n<p style="margin: 0px\; font-stretch: normal\; line-height: normal\; font-family: &quot\;Helvetica Neue&quot\;\; min-height: 15px\;">&nbsp\;</p>\n\n<p style="margin: 0px\; font-stretch: normal\; line-height: normal\; font-family: &quot\;Helvetica Neue&quot\;\;">MISSION of the Cultural Arts Alliance (CAA)</p>\n\n<p style="margin: 0px\; font-stretch: normal\; line-height: normal\; font-family: &quot\;Helvetica Neue&quot\;\;">Serving as an umbrella organization\, the Cultural Arts Alliance of Walton County supports the arts through leadership\, advocacy\, funding\, programs and education.</p>\n\n<p style="margin: 0px\; font-stretch: normal\; line-height: normal\; font-family: &quot\;Helvetica Neue&quot\;\; min-height: 15px\;">&nbsp\;</p>\n\n<p style="margin: 0px\; font-stretch: normal\; line-height: normal\; font-family: &quot\;Helvetica Neue&quot\;\;">VISION of the Cultural Arts Alliance (CAA)</p>\n\n<p style="margin: 0px\; font-stretch: normal\; line-height: normal\; font-family: &quot\;Helvetica Neue&quot\;\;">To be the catalyst for Walton County&rsquo\;s growth as a center for artistic and cultural excellence through which lives are enriched\, economy is stimulated and community is strengthened.</p>\n\n<p style="margin: 0px\; font-stretch: normal\; line-height: normal\; font-family: &quot\;Helvetica Neue&quot\;\; min-height: 15px\;">&nbsp\;</p>\n\n<p style="margin: 0px\; font-stretch: normal\; line-height: normal\; font-family: &quot\;Helvetica Neue&quot\;\;">Facebook pays all the processing fees for you\, so 100% of your donation goes directly to the nonprofit.</p>\n
LOCATION:
UID:e.885.32663
SEQUENCE:3
DTSTAMP:20260423T044550Z
URL:https://business.waltonareachamber.com/events/details/giving-tuesday-the-cultural-arts-alliance-of-walton-county-32663
END:VEVENT

END:VCALENDAR
