BEGIN:VCALENDAR
VERSION:2.0
PRODID:-//ChamberMaster//Event Calendar 2.0//EN
METHOD:PUBLISH
X-PUBLISHED-TTL:P3D
REFRESH-INTERVAL:P3D
CALSCALE:GREGORIAN
BEGIN:VEVENT
DTSTART;VALUE=DATE:20210917
DTEND;VALUE=DATE:20210918
TRANSP:TRANSPARENT
X-MICROSOFT-CDO-ALLDAYEVENT:TRUE
SUMMARY:Golfing Fore Good Charity Fundraiser
DESCRIPTION:FUNdraiser tournament to help support local children in need PRIZES to top winners Cart\, green fee\, gift bag\, and lunch included with fee Played in Scramble with 3-person team (if you do not enter a team list\, you will be placed with others) Please submit your approx. score for 18-holes if applicable (to ensure teams are evenly matched). There will be a description of how the chosen format is played prior to start {to Include: rules\, scoring\, etc.). Online registration for players\, teams\, and sponsorships can be found at: https://www.matrixcoc.org/golfing-fore-good.html
X-ALT-DESC;FMTTYPE=text/html:FUNdraiser tournament to help support local children in need PRIZES to top winners Cart\, green fee\, gift bag\, and lunch included with fee Played in Scramble with 3-person team (if you do not enter a team list\, you will be placed with others) Please submit your approx. score for 18-holes if applicable (to ensure teams are evenly matched). There will be a description of how the chosen format is played prior to start {to Include: rules\, scoring\, etc.). Online registration for players\, teams\, and sponsorships can be found at: https://www.matrixcoc.org/golfing-fore-good.html
LOCATION:Eagle Springs Golf and Recreation Center 171 Country Club Drive DeFuniak Springs\, FL 32433
UID:e.885.32415
SEQUENCE:3
DTSTAMP:20260423T010604Z
URL:https://business.waltonareachamber.com/events/details/golfing-fore-good-charity-fundraiser-32415
END:VEVENT

END:VCALENDAR
