BEGIN:VCALENDAR
VERSION:2.0
PRODID:-//ChamberMaster//Event Calendar 2.0//EN
METHOD:PUBLISH
X-PUBLISHED-TTL:P3D
REFRESH-INTERVAL:P3D
CALSCALE:GREGORIAN
BEGIN:VEVENT
DTSTART:20211118T150000Z
DTEND:20211118T160000Z
X-MICROSOFT-CDO-ALLDAYEVENT:FALSE
SUMMARY:Government Affairs Committee
DESCRIPTION:Join the Government Affairs Committee if you are interested in being involved in conversations relating to issues and opportunities at the state\, county\, and municipal levels. This committee helps drive the legislative priorities of the Chamber\, recommends the position the Chamber should consider on various topics to the Chamber Board of Directors\, and drives the advocacy conversation of our organization.  The Government Affairs Committee will meet every other month beginning January 2021.
X-ALT-DESC;FMTTYPE=text/html:Join the Government Affairs Committee if you are interested in being involved in conversations relating to issues and opportunities at the state\, county\, and municipal levels. This committee helps drive the legislative priorities of the Chamber\, recommends the position the Chamber should consider on various topics to the Chamber Board of Directors\, and drives the advocacy conversation of our organization.&nbsp\; The Government Affairs Committee will meet every other month beginning January 2021.
LOCATION:
UID:e.885.32450
SEQUENCE:3
DTSTAMP:20260423T043743Z
URL:https://business.waltonareachamber.com/events/details/government-affairs-committee-32450
END:VEVENT

END:VCALENDAR
