BEGIN:VCALENDAR
VERSION:2.0
PRODID:-//ChamberMaster//Event Calendar 2.0//EN
METHOD:PUBLISH
X-PUBLISHED-TTL:P3D
REFRESH-INTERVAL:P3D
CALSCALE:GREGORIAN
BEGIN:VEVENT
DTSTART:20250306T233000Z
DTEND:20250307T010000Z
X-MICROSOFT-CDO-ALLDAYEVENT:FALSE
SUMMARY:Government Contracting 101
DESCRIPTION:Unlock the Multi-Dimensional World of Government Contracting\n\n \n\nJoin us for an insightful introduction to the exciting realm of government contracting! Discover the essential steps to get started\, including how to register with the System for Award Management (SAM)   with expert support from co-presenter\, your Florida APEX Accelerator.\n\n \n\nDelve into lucrative opportunities at the state\, local\, and federal levels\, and learn about special "set-asides" designed to empower minority-owned businesses\, including those led by women and disabled veterans.\n\n \n\nWe'll also debunk common myths about government purchasing\, revealing what the government truly values   you might be surprised by what you learn!\n\n \n\nDon't miss this chance to gain invaluable knowledge from our expert speaker\, Chip Wells\, Associate Director and Government Contracting Consultant at Florida APEX Accelerator.
X-ALT-DESC;FMTTYPE=text/html:<p><span style="color:inherit\; font-size:16px">Unlock the Multi-Dimensional World of Government Contracting</span></p>\n\n<p>&nbsp\;</p>\n\n<p><span style="font-size:16px">Join us for an insightful introduction to the exciting realm of government contracting! Discover the essential steps to get started\, including how to register with the System for Award Management (SAM) &mdash\; with expert support from co-presenter\, your Florida APEX Accelerator.</span></p>\n\n<p>&nbsp\;</p>\n\n<p><span style="font-size:16px">Delve into lucrative opportunities at the state\, local\, and federal levels\, and learn about special &ldquo\;set-asides&rdquo\; designed to empower minority-owned businesses\, including those led by women and disabled veterans.</span></p>\n\n<p>&nbsp\;</p>\n\n<p><span style="font-size:16px">We&rsquo\;ll also debunk common myths about government purchasing\, revealing what the government truly values &mdash\; you might be surprised by what you learn!</span></p>\n\n<p>&nbsp\;</p>\n\n<p><span style="font-size:16px">Don&rsquo\;t miss this chance to gain invaluable knowledge from our expert speaker\, Chip Wells\, Associate Director and Government Contracting Consultant at Florida APEX Accelerator.</span></p>\n
LOCATION:Beachworx Destin 34990 Emerald Coast Pkwy Destin\, FL 32541
UID:e.885.45325
SEQUENCE:3
DTSTAMP:20260423T045935Z
URL:https://business.waltonareachamber.com/events/details/government-contracting-101-03-06-2025-45325
END:VEVENT

END:VCALENDAR
