BEGIN:VCALENDAR
VERSION:2.0
PRODID:-//ChamberMaster//Event Calendar 2.0//EN
METHOD:PUBLISH
X-PUBLISHED-TTL:P3D
REFRESH-INTERVAL:P3D
CALSCALE:GREGORIAN
BEGIN:VEVENT
DTSTART:20211130T173000Z
DTEND:20211130T190000Z
X-MICROSOFT-CDO-ALLDAYEVENT:FALSE
SUMMARY:Grand Opening and Ribbon Cutting for A Bed 4 Me Foundation - Lunch Provided
DESCRIPTION:A nonprofit organization providing beds for children who would otherwise be sleeping on the floor or inadequate spaces.
X-ALT-DESC;FMTTYPE=text/html:<p color:="" helvetica="" style="margin: 0px\; font-stretch: normal\; font-size: 14px\; line-height: normal\; font-family: "><span style="font-size:16px\;"><span style="caret-color: rgb(255\, 255\, 255)\; font-family: Cantarell\, Arial\, sans-serif\; text-align: center\;"><span style="font-size:14px\;">A nonprofit organization providing beds for children who would otherwise be sleeping on the floor or inadequate spaces.</span></span></span><br />\n<br />\n&nbsp\;</p>\n
LOCATION:4250 State Highway 20 W
UID:e.885.32655
SEQUENCE:3
DTSTAMP:20260423T044051Z
URL:https://business.waltonareachamber.com/events/details/grand-opening-and-ribbon-cutting-for-a-bed-4-me-foundation-lunch-provided-32655
END:VEVENT

END:VCALENDAR
