BEGIN:VCALENDAR
VERSION:2.0
PRODID:-//ChamberMaster//Event Calendar 2.0//EN
METHOD:PUBLISH
X-PUBLISHED-TTL:P3D
REFRESH-INTERVAL:P3D
CALSCALE:GREGORIAN
BEGIN:VEVENT
DTSTART:20220216T170000Z
DTEND:20220216T180000Z
X-MICROSOFT-CDO-ALLDAYEVENT:FALSE
SUMMARY:Grand Opening and Ribbon Cutting for Direct Auto Insurance
DESCRIPTION:Please join us for the Grand Opening and Ribbon Cutting for Direct Auto Insurance.  Box lunch and drinks will be provided. \n\nSince 1991\, Direct Auto Insurance has been providing drivers across the country with affordable car insurance and quality services   no matter the circumstances. Online\, over the phone\, or at your local store\, you'll get the friendly and convenient services you want and the coverage you need at the right price. As a Direct customer\, you get:\n\nSavings up to 25% on auto insurance with safe driving\, multi-product\, and other driver discounts.\n\nFlexible payment options   decide when\, how\, and what you pay.\n\nAccess to your policy online with MyAccount\, 24/7 claims service\, roadside assistance\, and more.
X-ALT-DESC;FMTTYPE=text/html:Please join us for the Grand Opening and Ribbon Cutting for Direct Auto Insurance.&nbsp\; Box lunch and drinks will be provided.&nbsp\;<br />\nSince 1991\, Direct Auto Insurance has been providing drivers across the country with affordable car insurance and quality services &mdash\; no matter the circumstances. Online\, over the phone\, or at your local store\, you&rsquo\;ll get the friendly and convenient services you want and the coverage you need at the right price. As a Direct customer\, you get:<br />\nSavings up to 25% on auto insurance with safe driving\, multi-product\, and other driver discounts.<br />\nFlexible payment options &mdash\; decide when\, how\, and what you pay.<br />\nAccess to your policy online with MyAccount\, 24/7 claims service\, roadside assistance\, and more.
LOCATION:1226 Freeport Highway Defuniak Springs\, FL 32435 Located Inside of Walmart
UID:e.885.33281
SEQUENCE:3
DTSTAMP:20260423T112241Z
URL:https://business.waltonareachamber.com/events/details/grand-opening-and-ribbon-cutting-for-direct-auto-insurance-33281
END:VEVENT

END:VCALENDAR
