BEGIN:VCALENDAR
VERSION:2.0
PRODID:-//ChamberMaster//Event Calendar 2.0//EN
METHOD:PUBLISH
X-PUBLISHED-TTL:P3D
REFRESH-INTERVAL:P3D
CALSCALE:GREGORIAN
BEGIN:VEVENT
DTSTART:20220324T150000Z
DTEND:20220324T230000Z
X-MICROSOFT-CDO-ALLDAYEVENT:FALSE
SUMMARY:Grand Opening and Ribbon Cutting for New Santa Rosa Beach Burger King!
DESCRIPTION:Please join us for the Grand Opening and Ribbon Cutting for Santa Rosa Beach's new Burger King!  This is a huge celebration that will kick off at 10:00 a.m. with a ribbon cutting and will go until 6:00 p.m.  Music\, balloons\, food - the whole shebang!  You do not want to miss this!  Food will be provided for all first responders!
X-ALT-DESC;FMTTYPE=text/html:Please join us for the Grand Opening and Ribbon Cutting for Santa Rosa Beach&rsquo\;s new Burger King!&nbsp\; This is a huge celebration that will kick off at 10:00 a.m. with a ribbon cutting and will go until 6:00 p.m.&nbsp\; Music\, balloons\, food - the whole shebang!&nbsp\; You do not want to miss this!&nbsp\; Food will be provided for all first responders!&nbsp\;
LOCATION:3598 US Hwy 98 E Santa Rosa Beach FL 32459
UID:e.885.33592
SEQUENCE:3
DTSTAMP:20260423T111857Z
URL:https://business.waltonareachamber.com/events/details/grand-opening-and-ribbon-cutting-for-new-santa-rosa-beach-burger-king-33592
END:VEVENT

END:VCALENDAR
