BEGIN:VCALENDAR
VERSION:2.0
PRODID:-//ChamberMaster//Event Calendar 2.0//EN
METHOD:PUBLISH
X-PUBLISHED-TTL:P3D
REFRESH-INTERVAL:P3D
CALSCALE:GREGORIAN
BEGIN:VEVENT
DTSTART:20220414T210000Z
DTEND:20220414T220000Z
X-MICROSOFT-CDO-ALLDAYEVENT:FALSE
SUMMARY:Grand Opening and Ribbon Cutting For Setco Services
DESCRIPTION:Please join us for Setco Services' Grand Opening and Ribbon Cutting in Defuniak Springs!  There will be a ribbon cutting at 4:00 with beer\, wine\, and water and lite bites for all attendees.
X-ALT-DESC;FMTTYPE=text/html:Please join us for Setco Services&#39\; Grand Opening and Ribbon Cutting in Defuniak Springs!&nbsp\; There will be a ribbon cutting at 4:00 with beer\, wine\, and water and lite bites for all attendees.&nbsp\;
LOCATION:770 Baldwin Ave DeFuniak Springs\, FL 32435
UID:e.885.33625
SEQUENCE:3
DTSTAMP:20260423T125532Z
URL:https://business.waltonareachamber.com/events/details/grand-opening-and-ribbon-cutting-for-setco-services-33625
END:VEVENT

END:VCALENDAR
