BEGIN:VCALENDAR
VERSION:2.0
PRODID:-//ChamberMaster//Event Calendar 2.0//EN
METHOD:PUBLISH
X-PUBLISHED-TTL:P3D
REFRESH-INTERVAL:P3D
CALSCALE:GREGORIAN
BEGIN:VEVENT
DTSTART:20220218T163000Z
DTEND:20220218T180000Z
X-MICROSOFT-CDO-ALLDAYEVENT:FALSE
SUMMARY:Grand Opening and Ribbon Cutting for The Owen Group Interior Design
DESCRIPTION:Please join us for the Grand Opening and Ribbon Cutting for The Owen Group Interior Design!  The ribbon cutting ceremony will take place at 11:00 a.m.  After the ceremony please join us across the street at The Wine Bar 30A for a lite bites and refreshment hour at the tables by the fountain.  Don't miss this fabulous event and the chance to meet the designers! \n\nThe Owen Group is a full service interior design firm specializing in projects from new construction and remodeling of high-end residential properties to hotel renovations and corporate design.\n\n\n\n \n\n\n\nThe Owen Group is one of Houston's premier residential interior design firms whose designs have been featured in numerous publications\, blogs\, and home tours. Tami Owen's signature style combines a neutral color palette and classic architecture\, layered with texture and one-of-a-kind detail. Tami's love of travel and knowledge of European antiques is showcased in her designs\, combining authentic pieces with modern accents to create an interesting blend of old and new in her clients' homes.
X-ALT-DESC;FMTTYPE=text/html:Please join us for the Grand Opening and Ribbon Cutting for The Owen Group Interior Design!&nbsp\; The ribbon cutting ceremony will take place at 11:00 a.m.&nbsp\; After the ceremony please join us across the street at The Wine Bar 30A for a lite bites and refreshment hour at the tables by the fountain.&nbsp\; Don&#39\;t miss this fabulous event and the chance to meet the designers!&nbsp\;<br />\nThe Owen Group is a full service interior design firm specializing in projects from new construction and remodeling of high-end residential properties to hotel renovations and corporate design.<br />\n<br />\n&nbsp\;<br />\n<br />\nThe Owen Group is one of Houston&#39\;s premier residential interior design firms whose designs have been featured in numerous publications\, blogs\, and home tours. Tami Owen&#39\;s signature style combines a neutral color palette and classic architecture\, layered with texture and one-of-a-kind detail. Tami&#39\;s love of travel and knowledge of European antiques is showcased in her designs\, combining authentic pieces with modern accents to create an interesting blend of old and new in her clients&#39\; homes.&nbsp\;
LOCATION:1701 East County Hwy 30a Santa Rosa Beach FL 32459 On the sidewalks across from Wine World
UID:e.885.33316
SEQUENCE:3
DTSTAMP:20260423T112533Z
URL:https://business.waltonareachamber.com/events/details/grand-opening-and-ribbon-cutting-for-the-owen-group-interior-design-33316
END:VEVENT

END:VCALENDAR
