BEGIN:VCALENDAR
VERSION:2.0
PRODID:-//ChamberMaster//Event Calendar 2.0//EN
METHOD:PUBLISH
X-PUBLISHED-TTL:P3D
REFRESH-INTERVAL:P3D
CALSCALE:GREGORIAN
BEGIN:VEVENT
DTSTART:20220319T130000Z
DTEND:20220319T170000Z
X-MICROSOFT-CDO-ALLDAYEVENT:FALSE
SUMMARY:Grand Opening Defuniak Springs Family Dental
DESCRIPTION:Come enjoy refreshments\, tour the new office\, enter to win giveaway prizes & more!
X-ALT-DESC;FMTTYPE=text/html:Come enjoy refreshments\, tour the new office\, enter to win giveaway prizes &amp\; more!
LOCATION:746 Baldwin Ave Defuniak Springs FL
UID:e.885.33615
SEQUENCE:3
DTSTAMP:20260423T111805Z
URL:https://business.waltonareachamber.com/events/details/grand-opening-defuniak-springs-family-dental-33615
END:VEVENT

END:VCALENDAR
