BEGIN:VCALENDAR
VERSION:2.0
PRODID:-//ChamberMaster//Event Calendar 2.0//EN
METHOD:PUBLISH
X-PUBLISHED-TTL:P3D
REFRESH-INTERVAL:P3D
CALSCALE:GREGORIAN
BEGIN:VEVENT
DTSTART:20210317T200000Z
DTEND:20210318T000000Z
X-MICROSOFT-CDO-ALLDAYEVENT:FALSE
SUMMARY:Grand Opening/ One Year Anniversary for Realty ONE Group Emerald Coast
DESCRIPTION:Join us for a grand opening/ one year anniversary for Realty ONE Group Emerald Coast! The event starts at 3 p.m. and the ribbon cutting ceremony will commence at 4 p.m.! There will be light bites and entertainment!
X-ALT-DESC;FMTTYPE=text/html:<span style="font-size:14px\;"><span style="font-family:arial\;">Join us for a grand opening/ one year anniversary for Realty ONE Group Emerald Coast! The event starts at 3 p.m. and the ribbon cutting ceremony will commence at 4 p.m.! There will be light bites and entertainment!</span></span>
LOCATION:Realty ONE Group Emerald Coast 321 Harbor Blvd. Destin\, FL
UID:e.885.29097
SEQUENCE:3
DTSTAMP:20260422T124948Z
URL:https://business.waltonareachamber.com/events/details/grand-opening-one-year-anniversary-for-realty-one-group-emerald-coast-29097
END:VEVENT

END:VCALENDAR
