BEGIN:VCALENDAR
VERSION:2.0
PRODID:-//ChamberMaster//Event Calendar 2.0//EN
METHOD:PUBLISH
X-PUBLISHED-TTL:P3D
REFRESH-INTERVAL:P3D
CALSCALE:GREGORIAN
BEGIN:VEVENT
DTSTART:20220519T190000Z
DTEND:20220519T220000Z
X-MICROSOFT-CDO-ALLDAYEVENT:FALSE
SUMMARY:Grand Opening/Ribbon Cutting Event for Hurd Real Estate & Co
DESCRIPTION:This is a catered event and will take place from 2:00 - 5:00 p.m. come and go style with a ribbon cutting ceremony at 3:30
X-ALT-DESC;FMTTYPE=text/html:This is a catered event and will take place from 2:00 - 5:00 p.m. come and go style with a ribbon cutting ceremony at 3:30
LOCATION:60 Spires Lane 6A Santa Rosa Beach FL 32459
UID:e.885.33859
SEQUENCE:3
DTSTAMP:20260423T160158Z
URL:https://business.waltonareachamber.com/events/details/grand-opening-ribbon-cutting-event-for-hurd-real-estate-co-33859
END:VEVENT

END:VCALENDAR
