BEGIN:VCALENDAR
VERSION:2.0
PRODID:-//ChamberMaster//Event Calendar 2.0//EN
METHOD:PUBLISH
X-PUBLISHED-TTL:P3D
REFRESH-INTERVAL:P3D
CALSCALE:GREGORIAN
BEGIN:VEVENT
DTSTART:20220125T170000Z
DTEND:20220125T180000Z
X-MICROSOFT-CDO-ALLDAYEVENT:FALSE
SUMMARY:Grand Opening/Ribbon Cutting for Curves On The Go!
DESCRIPTION:Please join us for the Grand Opening and Ribbon Cutting for Curves On The Go!  Lite Bites and Refreshments will be provided.  Ribbon will be cut at 11:15.  We hope to see you there!\n\n\n\nFunctional fitness off the circuit\, and in your neighborhood! Introducing Curves' exciting new way to get fit and healthy! Curves On the Go is a mobile\, pop-up style workout program created by Curves. \n\nThis group strength training workout is FUN\, FAST\, and SAFE. Classes are led by a dynamic certified personal trainer\, using resistance training\, making this a total body workout right in your neighborhood!\n\nCurves On The Go is great for all fitness levels because it combines both low and high intensity moves in circuit style format. Classes are designed to bring local women together for friendship and fitness\, all while working up a sweat on their way to reaching their health and fitness goals.
X-ALT-DESC;FMTTYPE=text/html:Please join us for the Grand Opening and Ribbon Cutting for Curves On The Go!&nbsp\; Lite Bites and Refreshments will be provided.&nbsp\; Ribbon will be cut at 11:15.&nbsp\; We hope to see you there!<br />\n<br />\nFunctional fitness off the circuit\, and in your neighborhood!&nbsp\;Introducing Curves&rsquo\; exciting new way to get fit and healthy! Curves On the Go is a mobile\, pop-up style workout program created by Curves.&nbsp\;<br />\nThis group strength training workout is FUN\, FAST\, and SAFE. Classes are led by a dynamic certified personal trainer\, using resistance training\, making this a total body workout right in your neighborhood!<br />\nCurves On The Go is great for all fitness levels because it combines both low and high intensity moves in circuit style format. Classes are designed to bring local women together for friendship and fitness\, all while working up a sweat on their way to reaching their health and fitness goals.
LOCATION:Grayt Room 30A
UID:e.885.33231
SEQUENCE:3
DTSTAMP:20260423T081430Z
URL:https://business.waltonareachamber.com/events/details/grand-opening-ribbon-cutting-for-curves-on-the-go-33231
END:VEVENT

END:VCALENDAR
