BEGIN:VCALENDAR
VERSION:2.0
PRODID:-//ChamberMaster//Event Calendar 2.0//EN
METHOD:PUBLISH
X-PUBLISHED-TTL:P3D
REFRESH-INTERVAL:P3D
CALSCALE:GREGORIAN
BEGIN:VEVENT
DTSTART:20210312T154500Z
DTEND:20210313T000000Z
X-MICROSOFT-CDO-ALLDAYEVENT:FALSE
SUMMARY:Grand Opening & Ribbon Cutting for Goodwill Industries -Big Bend\, Beach & Gift Store
DESCRIPTION:Join us for the grand opening of Goodwill Industries- Big Bend's Beach & Gift Store!\n\n\n\nThe ribbon cutting will commence at 9:45 a.m. We can't wait to see you there!
X-ALT-DESC;FMTTYPE=text/html:<span style="font-size:14px\;"><span style="font-family:arial\;">Join us for the grand opening of Goodwill Industries- Big Bend&#39\;s Beach &amp\; Gift Store!<br />\n<br />\nThe ribbon cutting will commence at 9:45 a.m. We can&#39\;t wait to see you there!</span></span>
LOCATION:3197 US HWY 98 Santa Rosa Beach\, FL
UID:e.885.29156
SEQUENCE:3
DTSTAMP:20260422T111324Z
URL:https://business.waltonareachamber.com/events/details/grand-opening-ribbon-cutting-for-goodwill-industries-big-bend-beach-gift-store-29156
END:VEVENT

END:VCALENDAR
